BEGIN:VCALENDAR
VERSION:2.0
PRODID:-//STRAWANZERIN - ECPv4.9.5//NONSGML v1.0//EN
CALSCALE:GREGORIAN
METHOD:PUBLISH
X-WR-CALNAME:STRAWANZERIN
X-ORIGINAL-URL:https://www.strawanzerin.at
X-WR-CALDESC:Veranstaltungen im STRAWANZERIN
BEGIN:VTIMEZONE
TZID:"Europe/Helsinki"
BEGIN:DAYLIGHT
TZOFFSETFROM:+0200
TZOFFSETTO:+0300
TZNAME:EEST
DTSTART:20150329T010000
END:DAYLIGHT
BEGIN:STANDARD
TZOFFSETFROM:+0300
TZOFFSETTO:+0200
TZNAME:EET
DTSTART:20151025T010000
END:STANDARD
END:VTIMEZONE
BEGIN:VEVENT
DTSTART;TZID="Europe/Helsinki":20150209T190000
DTEND;TZID="Europe/Helsinki":20150209T210000
DTSTAMP:20260421T140317
CREATED:20150204T113133Z
LAST-MODIFIED:20150213T154737Z
UID:11132-1423508400-1423515600@www.strawanzerin.at
SUMMARY:Ist mein Beinkleid ein Reinkleid? - Themenabend mit Kleidertausch
DESCRIPTION:Film\, Infos und praktische Tipps für den Kleidungskauf mit Michaela Königshofer von Clean Clothes Österreich.  \nFür den Kleidertausch bitte zwei oder drei Kleidungsstücke mitbringen\, die du selbst nicht mehr magst – oder vielleicht noch nie mochtest – und die für andere interessant sein könnten.  \n
URL:https://www.strawanzerin.at/termin/ist-mein-beinkleid-ein-reinkleid-themenabend-mit-kleidertausch/
LOCATION:Recycling Kosmos Zentrale\, Ottakringer Straße 63\, Wien\, Wien\, 1160\, Österreich
CATEGORIES:Deutsch,Gratis,Sonstiges,Vortrag/Symposium,Wien
ORGANIZER;CN="Recycling%20Kosmos":MAILTO:workshops@recyclingkosmos.at
GEO:48.2137812;16.3298013
X-APPLE-STRUCTURED-LOCATION;VALUE=URI;X-ADDRESS=Recycling Kosmos Zentrale Ottakringer Straße 63 Wien Wien 1160 Österreich;X-APPLE-RADIUS=500;X-TITLE=Ottakringer Straße 63:geo:16.3298013,48.2137812
END:VEVENT
END:VCALENDAR