BEGIN:VCALENDAR
VERSION:2.0
PRODID:-//STRAWANZERIN - ECPv4.9.5//NONSGML v1.0//EN
CALSCALE:GREGORIAN
METHOD:PUBLISH
X-WR-CALNAME:STRAWANZERIN
X-ORIGINAL-URL:https://www.strawanzerin.at
X-WR-CALDESC:Veranstaltungen im STRAWANZERIN
BEGIN:VTIMEZONE
TZID:"Europe/Vienna"
BEGIN:DAYLIGHT
TZOFFSETFROM:+0100
TZOFFSETTO:+0200
TZNAME:CEST
DTSTART:20230326T010000
END:DAYLIGHT
BEGIN:STANDARD
TZOFFSETFROM:+0200
TZOFFSETTO:+0100
TZNAME:CET
DTSTART:20231029T010000
END:STANDARD
END:VTIMEZONE
BEGIN:VEVENT
DTSTART;TZID="Europe/Vienna":20230508T193000
DTEND;TZID="Europe/Vienna":20230522T210000
DTSTAMP:20260421T002639
CREATED:20230414T111744Z
LAST-MODIFIED:20230521T193827Z
UID:90764-1683574200-1684789200@www.strawanzerin.at
SUMMARY:Italienisch A2/B1 Cinema-Special
DESCRIPTION:Imparate l’italiano con „La vita è bella“ & „Cinema paradiso“ \nLernen Sie Italienisch mit Klassikern der italienischen Cinema-Geschichte. Frischen Sie Ihr Sprachniveau auf\, indem Sie kurze Filme aus den letzten 30 Jahren genießen und vertiefen Sie so auch Ihre Kenntnisse der italienischen Kultur und Gesellschaft. Bei anhaltendem Interesse der Gruppe kann auf den Kennenlern-Kurs ein Fortsetzungskurs folgen! \n
URL:https://www.strawanzerin.at/termin/italienisch-a2-b1-cinema-special/
LOCATION:VHS Wiener Urania\, Uraniastraße 1\, Wien\, Wien\, 1010\, Österreich
ATTACH;FMTTYPE=image/jpeg:https://www.strawanzerin.at/wp-content/uploads/2023/04/20060719_Wiener-Urania-c-VHS-Wiener-Urania_KLEINER-20.jpg
ORGANIZER;CN="VHS%20Wiener%20Urania":MAILTO:urania@vhs.at
END:VEVENT
END:VCALENDAR