BEGIN:VCALENDAR
VERSION:2.0
PRODID:-//STRAWANZERIN - ECPv4.9.5//NONSGML v1.0//EN
CALSCALE:GREGORIAN
METHOD:PUBLISH
X-WR-CALNAME:STRAWANZERIN
X-ORIGINAL-URL:https://www.strawanzerin.at
X-WR-CALDESC:Veranstaltungen im STRAWANZERIN
BEGIN:VTIMEZONE
TZID:"Europe/Helsinki"
BEGIN:DAYLIGHT
TZOFFSETFROM:+0200
TZOFFSETTO:+0300
TZNAME:EEST
DTSTART:20160327T010000
END:DAYLIGHT
BEGIN:STANDARD
TZOFFSETFROM:+0300
TZOFFSETTO:+0200
TZNAME:EET
DTSTART:20161030T010000
END:STANDARD
END:VTIMEZONE
BEGIN:VEVENT
DTSTART;TZID="Europe/Helsinki":20161231T210000
DTEND;TZID="Europe/Helsinki":20161231T210000
DTSTAMP:20260422T021508
CREATED:20161125T134715Z
LAST-MODIFIED:20161125T135950Z
UID:37106-1483218000-1483218000@www.strawanzerin.at
SUMMARY:Jahr aus – Jahr ein
DESCRIPTION:… gibt es einen vergnüglichen Jahreswechsel mit Fritz Egger und Johannes Pillinger. Am 31.12. 2016 spielen die beiden im Odeïon Salzburg ihre Silvester-Kabarettgala „Jahr aus! Jahr ein!“ deshalb gleich zwei mal. Dabei lässt das AffrontTheater ein verrücktes Jahr 2016 noch einmal satirisch Revue passieren und spart neben zahlreichen amüsanten Ratschlägen für ein besseres Jahr 2017 auch nicht mit deftigem Silvestergeläster – ein Gläschen Bio-Prosecco inklusive. Beginn ist einmal um 18.00 und einmal um 21.00 Uhr.  \n
URL:https://www.strawanzerin.at/termin/jahr-aus-jahr-ein/
CATEGORIES:Salzburg,Theater/Kabarett
ATTACH;FMTTYPE=image/jpeg:https://www.strawanzerin.at/wp-content/uploads/2016/11/Egger-Pillinger-angezogencGünterFreund.jpg
END:VEVENT
END:VCALENDAR