BEGIN:VCALENDAR
VERSION:2.0
PRODID:-//STRAWANZERIN - ECPv4.9.5//NONSGML v1.0//EN
CALSCALE:GREGORIAN
METHOD:PUBLISH
X-WR-CALNAME:STRAWANZERIN
X-ORIGINAL-URL:https://www.strawanzerin.at
X-WR-CALDESC:Veranstaltungen im STRAWANZERIN
BEGIN:VTIMEZONE
TZID:"Europe/Vienna"
BEGIN:DAYLIGHT
TZOFFSETFROM:+0100
TZOFFSETTO:+0200
TZNAME:CEST
DTSTART:20190331T010000
END:DAYLIGHT
BEGIN:STANDARD
TZOFFSETFROM:+0200
TZOFFSETTO:+0100
TZNAME:CET
DTSTART:20191027T010000
END:STANDARD
END:VTIMEZONE
BEGIN:VEVENT
DTSTART;TZID="Europe/Vienna":20190629T190000
DTEND;TZID="Europe/Vienna":20190804T190000
DTSTAMP:20260422T024237
CREATED:20190606T143344Z
LAST-MODIFIED:20190711T161922Z
UID:65686-1561834800-1564945200@www.strawanzerin.at
SUMMARY:Jakob Gasteiger
DESCRIPTION:Jakob Gasteiger ist Grenzgänger. Er ist an den Regionen zwischen Malerei\, Zeichnung und Skulptur interessiert\, die er durch Überspielung und Verwischung ihrer Grenzen zu einer Selbstüberprüfung zwingt. Der Künstler zeigt\, dass ein Bild nicht allein durch eine mit dem Pinsel aufgetragene Farbe entsteht\, eine Zeichnung nicht nur durch eine Linie auf einer Fläche\, eine Skulptur nicht unbedingt durch einen Körper im Raum. Jakob Gasteiger verschiebt und erweitert die Identitäten. \n
URL:https://www.strawanzerin.at/termin/jakob-gasteiger/
LOCATION:Raum für Kunst im Lindenhof\, Oberndorf 7\, Raabs an der Thaya\, Niederösterreich\, 3820\, Österreich
CATEGORIES:Ausstellung
ATTACH;FMTTYPE=image/jpeg:https://www.strawanzerin.at/wp-content/uploads/2019/06/Gasteiger_Plakat_edit.jpg
ORGANIZER;CN="Galerien%20Thayaland":MAILTO:franzpart9@gmail.com
GEO:48.8481778;15.4859873
X-APPLE-STRUCTURED-LOCATION;VALUE=URI;X-ADDRESS=Raum für Kunst im Lindenhof Oberndorf 7 Raabs an der Thaya Niederösterreich 3820 Österreich;X-APPLE-RADIUS=500;X-TITLE=Oberndorf 7:geo:15.4859873,48.8481778
END:VEVENT
END:VCALENDAR