BEGIN:VCALENDAR
VERSION:2.0
PRODID:-//STRAWANZERIN - ECPv4.9.5//NONSGML v1.0//EN
CALSCALE:GREGORIAN
METHOD:PUBLISH
X-WR-CALNAME:STRAWANZERIN
X-ORIGINAL-URL:https://www.strawanzerin.at
X-WR-CALDESC:Veranstaltungen im STRAWANZERIN
BEGIN:VTIMEZONE
TZID:"Europe/Helsinki"
BEGIN:DAYLIGHT
TZOFFSETFROM:+0200
TZOFFSETTO:+0300
TZNAME:EEST
DTSTART:20150329T010000
END:DAYLIGHT
BEGIN:STANDARD
TZOFFSETFROM:+0300
TZOFFSETTO:+0200
TZNAME:EET
DTSTART:20151025T010000
END:STANDARD
END:VTIMEZONE
BEGIN:VEVENT
DTSTART;TZID="Europe/Helsinki":20151204T200000
DTEND;TZID="Europe/Helsinki":20151204T220000
DTSTAMP:20260420T120544
CREATED:20151119T211921Z
LAST-MODIFIED:20151125T131934Z
UID:21928-1449259200-1449266400@www.strawanzerin.at
SUMMARY:JamTisch 05
DESCRIPTION:Streicherklang abseits von konventionellen Wegen\n(Jazz\, Neue Musik\, freie Improvisation) \n
URL:https://www.strawanzerin.at/termin/jamtisch-05/
CATEGORIES:Deutsch,Gratis,Kunst/Kultur,Musik,Wien
END:VEVENT
END:VCALENDAR