BEGIN:VCALENDAR
VERSION:2.0
PRODID:-//STRAWANZERIN - ECPv4.9.5//NONSGML v1.0//EN
CALSCALE:GREGORIAN
METHOD:PUBLISH
X-WR-CALNAME:STRAWANZERIN
X-ORIGINAL-URL:https://www.strawanzerin.at
X-WR-CALDESC:Veranstaltungen im STRAWANZERIN
BEGIN:VTIMEZONE
TZID:"Europe/Vienna"
BEGIN:DAYLIGHT
TZOFFSETFROM:+0100
TZOFFSETTO:+0200
TZNAME:CEST
DTSTART:20220327T010000
END:DAYLIGHT
BEGIN:STANDARD
TZOFFSETFROM:+0200
TZOFFSETTO:+0100
TZNAME:CET
DTSTART:20221030T010000
END:STANDARD
END:VTIMEZONE
BEGIN:VEVENT
DTSTART;TZID="Europe/Vienna":20220403T193000
DTEND;TZID="Europe/Vienna":20220403T210000
DTSTAMP:20260422T175311
CREATED:20220317T152054Z
LAST-MODIFIED:20220329T121640Z
UID:83501-1649014200-1649019600@www.strawanzerin.at
SUMMARY:Jattle\, BAM + Poetry
DESCRIPTION:Improvisation mit Tanz\, Musik und Text – live \nOhne feste Formen und ohne vorhersehbare Bewegungen treten zwei Teams nacheinander miteinander an: gesprochene Wörter beflügeln dabei live produzierte Sounds kontaktieren Bewegungen tanzend Worte. Ein unvorhersehbarer Abend\, an dem das Publikum zu Tonabnehmer und Verstärker der erzählten Geschichten wird\, bevor es sich selbst spielerisch verstricken darf\, oder ist es das bereits?\nDer Ausgang bleibt gewiss ungewiss. \npay as you wish\nReservierungen vera@danceability.at  \nTickets https://www.eventbrite.at/e/jattle-bam-poetry-tickets-292347528327 \n
URL:https://www.strawanzerin.at/termin/jattle-bam-poetry-12/
LOCATION:Off-Theater\, Burggasse 28-32 (barrierefrei)\, Wien\, Wien\, 1070\, Österreich
CATEGORIES:Barrierefrei,Gebärdensprache,Literatur,Musik,Tanz,Wien
ATTACH;FMTTYPE=image/jpeg:https://www.strawanzerin.at/wp-content/uploads/2022/03/753E1BD4-1CDA-4986-8C37-0C6B9CE5DF40.jpeg
ORGANIZER;CN="DanceAbiltiy":MAILTO:vera@danceability.at
END:VEVENT
END:VCALENDAR