BEGIN:VCALENDAR
VERSION:2.0
PRODID:-//STRAWANZERIN - ECPv4.9.5//NONSGML v1.0//EN
CALSCALE:GREGORIAN
METHOD:PUBLISH
X-WR-CALNAME:STRAWANZERIN
X-ORIGINAL-URL:https://www.strawanzerin.at
X-WR-CALDESC:Veranstaltungen im STRAWANZERIN
BEGIN:VTIMEZONE
TZID:"Europe/Vienna"
BEGIN:DAYLIGHT
TZOFFSETFROM:+0100
TZOFFSETTO:+0200
TZNAME:CEST
DTSTART:20190331T010000
END:DAYLIGHT
BEGIN:STANDARD
TZOFFSETFROM:+0200
TZOFFSETTO:+0100
TZNAME:CET
DTSTART:20191027T010000
END:STANDARD
END:VTIMEZONE
BEGIN:VEVENT
DTSTART;TZID="Europe/Vienna":20190404T193000
DTEND;TZID="Europe/Vienna":20190404T220000
DTSTAMP:20260423T171907
CREATED:20190311T142308Z
LAST-MODIFIED:20190312T162021Z
UID:62833-1554406200-1554415200@www.strawanzerin.at
SUMMARY:Jattle\, BAM + Poetry
DESCRIPTION:Ohne feste Formen und ohne vorhersehbare Bewegungen treten zwei Teams nacheinander miteinander an: gesprochene Wörter beflügeln dabei live produzierte Sounds kontaktieren Bewegungen tanzend Worte. Ein unvorhersehbarer Abend an dem das Publikum zu Tonabnehmer und Verstärker der erzählten Geschichten wird\, bevor es sich selbst spielerisch verstricken darf\, oder ist es das bereits? Der Ausgang bleibt gewiss ungewiss. \n
URL:https://www.strawanzerin.at/termin/jattle-bam-poetry-6/
LOCATION:Das Off Theater Wien\, Kirchengasse 41\, Wien\, Wien\, 1070\, Österreich
CATEGORIES:freie Spende,Tanz
ATTACH;FMTTYPE=image/jpeg:https://www.strawanzerin.at/wp-content/uploads/2019/03/jbp_off_vurn.jpg
ORGANIZER;CN="DanceAbility%20e.V.":MAILTO:vera@danceability.at
GEO:48.2047761;16.3512515
X-APPLE-STRUCTURED-LOCATION;VALUE=URI;X-ADDRESS=Das Off Theater Wien Kirchengasse 41 Wien Wien 1070 Österreich;X-APPLE-RADIUS=500;X-TITLE=Kirchengasse 41:geo:16.3512515,48.2047761
END:VEVENT
END:VCALENDAR