BEGIN:VCALENDAR
VERSION:2.0
PRODID:-//STRAWANZERIN - ECPv4.9.5//NONSGML v1.0//EN
CALSCALE:GREGORIAN
METHOD:PUBLISH
X-WR-CALNAME:STRAWANZERIN
X-ORIGINAL-URL:https://www.strawanzerin.at
X-WR-CALDESC:Veranstaltungen im STRAWANZERIN
BEGIN:VTIMEZONE
TZID:"Europe/Paris"
BEGIN:DAYLIGHT
TZOFFSETFROM:+0100
TZOFFSETTO:+0200
TZNAME:CEST
DTSTART:20150329T010000
END:DAYLIGHT
BEGIN:STANDARD
TZOFFSETFROM:+0200
TZOFFSETTO:+0100
TZNAME:CET
DTSTART:20151025T010000
END:STANDARD
END:VTIMEZONE
BEGIN:VEVENT
DTSTART;TZID="Europe/Paris":20150604T190000
DTEND;TZID="Europe/Paris":20150604T220000
DTSTAMP:20260421T234121
CREATED:20150524T013834Z
LAST-MODIFIED:20150602T140234Z
UID:15001-1433444400-1433455200@www.strawanzerin.at
SUMMARY:Jazz und Pop-Konzert mit Jessica Slavik und Navid Djawadi
DESCRIPTION:Jazz und Pop in der „Galerie Sandpeck Wien 8“ Florianigasse 75 mit Jessica Slavik – Gesang und Navid Djawadi – Kontrabass\nim Rahmen der Werkpräsentation „Figurale Tendenzen“ von Renate Grande und Eva Posch \nKonzert: Donnerstag\, 4.6. um 19Uhr\nEintritt: freie Clubspende \nDas musikalische Duo zählt zwar zu den anspruchsvolleren Besetzungen\, besticht jedoch durch Transparenz\, Offenheit im Sound und Intimität in der musikalischen Konversation. Ähnlich wie der Lichtkegel eines Bühnenscheinwerfers die Aufmerksamkeit auf das Wenige richtet\, spart das Duo überschüssigen Klang aus um Fokus zu erzwingen. Über einfallsreiche Arrangements von Liedern des Jazz und Pop Repertoires versuchen die in ihrer Ausdrucksstärke einmalige Jessica Slavik und ihr nicht weniger originelles Gegenüber Navid Djawadi die Spannung zwischen den Tiefen des Kontrabasses und den Höhen der Stimme in ihrer ganzen Vielschichtigkeit auszudrücken.\nwww.sandpeck.com \n
URL:https://www.strawanzerin.at/termin/jazz-und-pop-konzert-mit-jessica-slavik-und-navid-djawadi/
LOCATION:Österreich
CATEGORIES:Deutsch,freie Spende,Kunst/Kultur,Musik,Wien
ATTACH;FMTTYPE=image/jpeg:https://www.strawanzerin.at/wp-content/uploads/2015/05/Galerie_Sandpeck_Jessica_Slavik_Navid_Djawadi_Konzert.jpg
END:VEVENT
END:VCALENDAR