BEGIN:VCALENDAR
VERSION:2.0
PRODID:-//STRAWANZERIN - ECPv4.9.5//NONSGML v1.0//EN
CALSCALE:GREGORIAN
METHOD:PUBLISH
X-WR-CALNAME:STRAWANZERIN
X-ORIGINAL-URL:https://www.strawanzerin.at
X-WR-CALDESC:Veranstaltungen im STRAWANZERIN
BEGIN:VTIMEZONE
TZID:"Europe/Vienna"
BEGIN:DAYLIGHT
TZOFFSETFROM:+0100
TZOFFSETTO:+0200
TZNAME:CEST
DTSTART:20190331T010000
END:DAYLIGHT
BEGIN:STANDARD
TZOFFSETFROM:+0200
TZOFFSETTO:+0100
TZNAME:CET
DTSTART:20191027T010000
END:STANDARD
END:VTIMEZONE
BEGIN:VEVENT
DTSTART;TZID="Europe/Vienna":20190413T190000
DTEND;TZID="Europe/Vienna":20190526T190000
DTSTAMP:20260420T182612
CREATED:20190313T143118Z
LAST-MODIFIED:20190403T082428Z
UID:62929-1555182000-1558897200@www.strawanzerin.at
SUMMARY:Jeremias Altmann: Machines 019
DESCRIPTION:Die Innereien der Geräte sind nicht angefertigt\, um gesehen zu werden. Eher werden sie sorgfältig vor uns verborgen. Ihre anatomische Komplexität findet im Geheimen statt. Und selbst\, wenn wir ständigen Einblick in die Leiber der Apparaturen hätten\, benötigt es technisches Verständnis auf höchstem Niveau\, um den verworrenen Strukturen ihres Innenlebens deutliche Lesbarkeit abzuringen. Spätestens der jüngste Umbruch von der Mechanik hin zur Elektronik erlaubt uns als Laien absolut keine Rückschlüsse mehr über die tatsächliche Funktionsweisen. Unsere Vorstellung ehemals physikalischer Abläufe wird mit zunehmender Digitalisierung mehr und mehr abstrakt. Als einzige Feststellung bleibt uns die ästhetische Beobachtung einer stufenweisen Transformation der Zahnräder und Antriebsriemen\, in ein Gewirr von Drähten und Platinen. \nIn seiner Ausstellung MACHINES 019 verschafft sich Jeremias Altmann systematischen Überblick. Seine unnachgiebige Faszination für Apparaturen und deren verborgene Mechanismen verursachte ein kleines Archiv an Zeichnungen und Druckgraphiken\, dem sich nun auch zwei Kurzfilme beimengen\, die im Rahmen der Ausstellung zu sehen sein werden. \n
URL:https://www.strawanzerin.at/termin/jeremias-altmann-machines-019/
LOCATION:Kunstfabrik Groß Siegharts\, Karlsteiner Straße 4\, Groß-Siegharts\, Niederösterreich\, 3812\, Österreich
CATEGORIES:Ausstellung
ATTACH;FMTTYPE=image/jpeg:https://www.strawanzerin.at/wp-content/uploads/2019/03/Großsiegharts_Poster_s.jpg
ORGANIZER;CN="Galerien%20Thayaland":MAILTO:franzpart9@gmail.com
GEO:48.791901;15.4039756
X-APPLE-STRUCTURED-LOCATION;VALUE=URI;X-ADDRESS=Kunstfabrik Groß Siegharts Karlsteiner Straße 4 Groß-Siegharts Niederösterreich 3812 Österreich;X-APPLE-RADIUS=500;X-TITLE=Karlsteiner Straße 4:geo:15.4039756,48.791901
END:VEVENT
END:VCALENDAR