BEGIN:VCALENDAR
VERSION:2.0
PRODID:-//STRAWANZERIN - ECPv4.9.5//NONSGML v1.0//EN
CALSCALE:GREGORIAN
METHOD:PUBLISH
X-WR-CALNAME:STRAWANZERIN
X-ORIGINAL-URL:https://www.strawanzerin.at
X-WR-CALDESC:Veranstaltungen im STRAWANZERIN
BEGIN:VTIMEZONE
TZID:"Europe/Vienna"
BEGIN:DAYLIGHT
TZOFFSETFROM:+0100
TZOFFSETTO:+0200
TZNAME:CEST
DTSTART:20250330T010000
END:DAYLIGHT
BEGIN:STANDARD
TZOFFSETFROM:+0200
TZOFFSETTO:+0100
TZNAME:CET
DTSTART:20251026T010000
END:STANDARD
END:VTIMEZONE
BEGIN:VEVENT
DTSTART;VALUE=DATE:20251007
DTEND;VALUE=DATE:20251115
DTSTAMP:20260420T201526
CREATED:20251023T115157Z
LAST-MODIFIED:20251023T115157Z
UID:110508-1759809600-1763092799@www.strawanzerin.at
SUMMARY:Jetzt in Graz zu sehen: Kunst\, die gut tut - H.W.Ötscherer Ausstellung
DESCRIPTION:               H.W. Ötscherers farbstarke Ausstellung im Merkur Kunst Campus\nGraz. Noch bis 13. November 2025 ist im Merkur Kunst Campus (Conrad-von-Hötzendorf-Straße 85) die neue Ausstellung von H.W. Ötscherer zu sehen: „Ins Bild träumen – Seele und Körper stärken“.\nDie Vernissage am 7. Oktober zog bereits zahlreiche Besucherinnen und Besucher an – nun ist die Schau täglich von 09:00 bis 20:00 Uhr frei zugänglich\, ideal auch für einen spontanen Nachmittags- oder Wochenendbesuch.\nIn 33 großformatigen\, farbintensiven Werken entfaltet der Künstler expressionistische Landschaften\, inspiriert von der Natur rund um den Ötscher. Seine Malerei lädt ein\, zur Ruhe zu kommen und sich „ins Bild hineinzuträumen“ – Kunst als Kraftquelle für inneres Gleichgewicht und Gesundheit.\n„Meine Bilder sollen Räume öffnen\, in denen man Entspannung findet“\, so H.W.Ötscherer bei der Eröffnung.\nEin Besuch lohnt sich – für Kunstinteressierte aus Graz ebenso wie für Gäste von außerhalb. \nAusstellung: „Ins Bild träumen – Seele und Körper stärken“\nKünstler: H.W. Ötscherer\nOrt: Merkur Kunst Campus\, Conrad-von-Hötzendorf-Straße 85\, Graz\nDauer: bis 13. November 2025\nÖffnungszeiten: täglich 09:00 – 20:00 Uhr\nEintritt: frei \n
URL:https://www.strawanzerin.at/termin/jetzt-in-graz-zu-sehen-kunst-die-gut-tut-h-w-oetscherer-ausstellung/
LOCATION:Merkur Kunst Campus Graz\, Conrad von Hötzendorf Strasse 85\, Graz\, Steiermark\, 8010\, Österreich
CATEGORIES:Ausstellung
ATTACH;FMTTYPE=image/jpeg:https://www.strawanzerin.at/wp-content/uploads/2025/10/H.W.Oetscherer-Ausstellung-Graz-_-web-.jpg
END:VEVENT
END:VCALENDAR