BEGIN:VCALENDAR
VERSION:2.0
PRODID:-//STRAWANZERIN - ECPv4.9.5//NONSGML v1.0//EN
CALSCALE:GREGORIAN
METHOD:PUBLISH
X-WR-CALNAME:STRAWANZERIN
X-ORIGINAL-URL:https://www.strawanzerin.at
X-WR-CALDESC:Veranstaltungen im STRAWANZERIN
BEGIN:VTIMEZONE
TZID:"Europe/Vienna"
BEGIN:DAYLIGHT
TZOFFSETFROM:+0100
TZOFFSETTO:+0200
TZNAME:CEST
DTSTART:20180325T010000
END:DAYLIGHT
BEGIN:STANDARD
TZOFFSETFROM:+0200
TZOFFSETTO:+0100
TZNAME:CET
DTSTART:20181028T010000
END:STANDARD
END:VTIMEZONE
BEGIN:VEVENT
DTSTART;TZID="Europe/Vienna":20180322T190000
DTEND;TZID="Europe/Vienna":20180322T220000
DTSTAMP:20260423T105555
CREATED:20180210T121550Z
LAST-MODIFIED:20180212T120736Z
UID:52329-1521745200-1521756000@www.strawanzerin.at
SUMMARY:Jid\, du Partisaner - Lieder vom jüdischen Widerstand mit Martin Auer
DESCRIPTION:Hunderttausende Juden und Jüdinnen haben gegen den Hitler-Faschismus gekämpft\, in zivilen politischen Widerstandsgruppen\, in Partisanengruppen im Untergrund und in den alliierten Armeen. In seinem Programm „Jid\, du Partisaner“ bringt Martin Auer Lieder vom Widerstand gegen die Faschisten und Lieder der jüdischen ArbeiterInnenbewegung.  \n
URL:https://www.strawanzerin.at/termin/jid-du-partisaner-lieder-vom-juedischen-widerstand-mit-martin-auer/
LOCATION:Werkl im Goethehof\, Schüttaustraße 1-39/6/R02\, Wien\, Wien\, 1220\, Österreich
CATEGORIES:Gratis,Musik
GEO:48.230036;16.4185699
X-APPLE-STRUCTURED-LOCATION;VALUE=URI;X-ADDRESS=Werkl im Goethehof Schüttaustraße 1-39/6/R02 Wien Wien 1220 Österreich;X-APPLE-RADIUS=500;X-TITLE=Schüttaustraße 1-39/6/R02:geo:16.4185699,48.230036
END:VEVENT
END:VCALENDAR