BEGIN:VCALENDAR
VERSION:2.0
PRODID:-//STRAWANZERIN - ECPv4.9.5//NONSGML v1.0//EN
CALSCALE:GREGORIAN
METHOD:PUBLISH
X-WR-CALNAME:STRAWANZERIN
X-ORIGINAL-URL:https://www.strawanzerin.at
X-WR-CALDESC:Veranstaltungen im STRAWANZERIN
BEGIN:VTIMEZONE
TZID:"Europe/Vienna"
BEGIN:DAYLIGHT
TZOFFSETFROM:+0100
TZOFFSETTO:+0200
TZNAME:CEST
DTSTART:20190331T010000
END:DAYLIGHT
BEGIN:STANDARD
TZOFFSETFROM:+0200
TZOFFSETTO:+0100
TZNAME:CET
DTSTART:20191027T010000
END:STANDARD
END:VTIMEZONE
BEGIN:VEVENT
DTSTART;TZID="Europe/Vienna":20190221T193000
DTEND;TZID="Europe/Vienna":20190221T213000
DTSTAMP:20260424T162407
CREATED:20181020T103359Z
LAST-MODIFIED:20181020T103359Z
UID:59919-1550777400-1550784600@www.strawanzerin.at
SUMMARY:Johannes Brahms - Deutsche Volkslieder
DESCRIPTION:Collegium Musici präsentiert Lieder und Duette der Romantik  \nDie von Johannes Brahms (1833-1897) gesammelten Volksweisen bilden ein wertvolles Kulturgut. Dank seiner Bearbeitungen machte er diesen Teil der europäischen Musikgeschichte auch für die Nachwelt zugänglich. Am Donnerstag\, dem 21. Februar 2019\, um 19.30 Uhr gibt das Collegium Musici im Haus Hofmannsthal eine Auswahl zum Besten. Hinzu kommen Lieder und Duette von Felix Mendelssohn-Bartholdy (1809-1847) und Peter Cornelius (1824-1874). Es singen Sopranistin Monika Medek und Bassbariton Florian Pejrimovsky. Am Klavier begleitet Karen De Pastel. \nInfo & Karten:\nTel.: 01 7148533   \nBild: Pianistin Karen De Pastel\, Bassbariton Florian Pejrimovsky und Sopranistin Monika Medek (v.l.n.r.)\, Foto/© S. Vento\, Ekaterina Koghanova\, Christoph Wagner (v.l.n.r.) \n
URL:https://www.strawanzerin.at/termin/johannes-brahms-deutsche-volkslieder/
LOCATION:Haus Hofmannsthal\, Reisnerstraße 37\, Wien\, Wien\, 1030\, Österreich
CATEGORIES:ab 7,Kunst/Kultur,Musik,Wien
ATTACH;FMTTYPE=image/jpeg:https://www.strawanzerin.at/wp-content/uploads/2018/10/Collegium_Fotoleiste.jpg
GEO:48.1989376;16.3840765
X-APPLE-STRUCTURED-LOCATION;VALUE=URI;X-ADDRESS=Haus Hofmannsthal Reisnerstraße 37 Wien Wien 1030 Österreich;X-APPLE-RADIUS=500;X-TITLE=Reisnerstraße 37:geo:16.3840765,48.1989376
END:VEVENT
END:VCALENDAR