BEGIN:VCALENDAR
VERSION:2.0
PRODID:-//STRAWANZERIN - ECPv4.9.5//NONSGML v1.0//EN
CALSCALE:GREGORIAN
METHOD:PUBLISH
X-WR-CALNAME:STRAWANZERIN
X-ORIGINAL-URL:https://www.strawanzerin.at
X-WR-CALDESC:Veranstaltungen im STRAWANZERIN
BEGIN:VTIMEZONE
TZID:"Europe/Helsinki"
BEGIN:DAYLIGHT
TZOFFSETFROM:+0200
TZOFFSETTO:+0300
TZNAME:EEST
DTSTART:20150329T010000
END:DAYLIGHT
BEGIN:STANDARD
TZOFFSETFROM:+0300
TZOFFSETTO:+0200
TZNAME:EET
DTSTART:20151025T010000
END:STANDARD
END:VTIMEZONE
BEGIN:VEVENT
DTSTART;TZID="Europe/Helsinki":20151206T193000
DTEND;TZID="Europe/Helsinki":20151206T220000
DTSTAMP:20260423T124318
CREATED:20151118T171724Z
LAST-MODIFIED:20151125T132210Z
UID:21913-1449430200-1449439200@www.strawanzerin.at
SUMMARY:Josef Mitschan und Johann Sergej präsentieren: Märchen von Himmel und Hölle und Bluegrassmusik
DESCRIPTION:Josef Mitschan und Johann Sergej\, ein eingespieltes Team. Josef Mitschan ist Geschichtenerzähler\, Johann Sergej ist eine Bluegrassband. \nJosef erzählt Märchen für alle\, die zuhören können. Er setzt schauspielerisches Talent und facettenreiches Minenspiel ein\, wenn er Volksmärchen aus aller Welt präsentiert \nUnd was macht eine Bluegrassband? Sie spielt natürlich Bluegrass.  \nDas ist eine Form der amerikanischen Cöuntry Music\, wo sich Menschen mit ihren akustischen Instrumenten versammeln und ohne jegliches technisches Brimborium musizieren und singen.: Der Stehbass brummt\, das Banjo klimpert\, die Gitarre schrummt und es wird schön zweistimmig gesungen oder nicht\, von der Liebe vom Tod und vom Rausch dazwischen. Verzweiflung mischt sich mit Euphorie. Eben die wesentlichen Dinge des Lebens. Das eine oder andere hiesige Volkslied ist zu hören und ergibt eine Mischung die selbst das abgebrühteste Herz rührt. \n
URL:https://www.strawanzerin.at/termin/josef-mitschan-und-johann-sergej-praesentieren-maerchen-von-himmel-und-hoelle-und-bluegrassmusik/
LOCATION:Arena Revue Bar\, Margaretenstrasse 117\, Wien\, Wien\, 1050\, Österreich
CATEGORIES:Deutsch,freie Spende,Musik,Transnational,Wien
ATTACH;FMTTYPE=image/jpeg:https://www.strawanzerin.at/wp-content/uploads/2015/11/Josef_Johann_web.jpg
GEO:48.188253;16.3534616
X-APPLE-STRUCTURED-LOCATION;VALUE=URI;X-ADDRESS=Arena Revue Bar Margaretenstrasse 117 Wien Wien 1050 Österreich;X-APPLE-RADIUS=500;X-TITLE=Margaretenstrasse 117:geo:16.3534616,48.188253
END:VEVENT
END:VCALENDAR