BEGIN:VCALENDAR
VERSION:2.0
PRODID:-//STRAWANZERIN - ECPv4.9.5//NONSGML v1.0//EN
CALSCALE:GREGORIAN
METHOD:PUBLISH
X-WR-CALNAME:STRAWANZERIN
X-ORIGINAL-URL:https://www.strawanzerin.at
X-WR-CALDESC:Veranstaltungen im STRAWANZERIN
BEGIN:VTIMEZONE
TZID:"Europe/Vienna"
BEGIN:DAYLIGHT
TZOFFSETFROM:+0100
TZOFFSETTO:+0200
TZNAME:CEST
DTSTART:20180325T010000
END:DAYLIGHT
BEGIN:STANDARD
TZOFFSETFROM:+0200
TZOFFSETTO:+0100
TZNAME:CET
DTSTART:20181028T010000
END:STANDARD
END:VTIMEZONE
BEGIN:VEVENT
DTSTART;TZID="Europe/Vienna":20180111T201500
DTEND;TZID="Europe/Vienna":20180111T220000
DTSTAMP:20260422T155037
CREATED:20171211T153539Z
LAST-MODIFIED:20171211T153539Z
UID:50727-1515701700-1515708000@www.strawanzerin.at
SUMMARY:Josef und Maria von Peter Turrini
DESCRIPTION:Wo gehört man denn hin\, wenn man zu niemandem gehört? In Turrinis »Weihnachtsmärchen für Erwachsene«\, das 1980 am Wiener Volkstheater uraufgeführt wurde\, suchen Josef und Maria am Heiligen Abend vorübergehend Herberge in einem stillgelegten Kaufhaus\, um der Einsamkeit zu entfliehen. Die Welt da draussen scheint für die Beiden nichts mehr übrig zu haben. Doch in der Zweisamkeit frischt in ihnen die Liebe am Menschsein und die Lust am Leben so richtig auf. Komisches mischt sich mit Tragischem\, Gegenwart mit Vergangenheit\, Härte mit Sentimentalität. In diesen Traumrollen für zwei Schauspieler sind Dany Sigel und Peter Josch von 11. Jänner bis 3. Februar in der Komödie am Kai zu sehen. \nVorstellungen:\n11. Jänner bis 3. Februar 2018\, DI bis SA 20.15 Uhr \nInfo:\nTel. 01 533 24 34  \nBild: Dany Sigel und Peter Josch als »Josef und Maria«\, Foto/© Komödie am Kai \n
URL:https://www.strawanzerin.at/termin/josef-und-maria-von-peter-turrini/2018-01-11/
LOCATION:Komödie am Kai\, Franz-Josefs-Kai 29\, Wien\, Wien\, 1010\, Österreich
CATEGORIES:ab 7,Theater/Kabarett,Wien
ATTACH;FMTTYPE=image/jpeg:https://www.strawanzerin.at/wp-content/uploads/2017/12/presse221_1.jpg
GEO:48.2121522;16.3749182
X-APPLE-STRUCTURED-LOCATION;VALUE=URI;X-ADDRESS=Komödie am Kai Franz-Josefs-Kai 29 Wien Wien 1010 Österreich;X-APPLE-RADIUS=500;X-TITLE=Franz-Josefs-Kai 29:geo:16.3749182,48.2121522
END:VEVENT
END:VCALENDAR