BEGIN:VCALENDAR
VERSION:2.0
PRODID:-//STRAWANZERIN - ECPv4.9.5//NONSGML v1.0//EN
CALSCALE:GREGORIAN
METHOD:PUBLISH
X-WR-CALNAME:STRAWANZERIN
X-ORIGINAL-URL:https://www.strawanzerin.at
X-WR-CALDESC:Veranstaltungen im STRAWANZERIN
BEGIN:VTIMEZONE
TZID:"Europe/Vienna"
BEGIN:DAYLIGHT
TZOFFSETFROM:+0100
TZOFFSETTO:+0200
TZNAME:CEST
DTSTART:20210328T010000
END:DAYLIGHT
BEGIN:STANDARD
TZOFFSETFROM:+0200
TZOFFSETTO:+0100
TZNAME:CET
DTSTART:20211031T010000
END:STANDARD
END:VTIMEZONE
BEGIN:VEVENT
DTSTART;TZID="Europe/Vienna":20211118T200000
DTEND;TZID="Europe/Vienna":20211118T230000
DTSTAMP:20260422T154740
CREATED:20211028T100738Z
LAST-MODIFIED:20211103T081057Z
UID:81447-1637265600-1637276400@www.strawanzerin.at
SUMMARY:Josefstädter JAZZHERBST
DESCRIPTION:Michaela Rabitsch & Robert Pawlik Quartet feat. Stephan Brodsky\nDer schon traditionelle Josefstädter Jazztag findet heuer coronabedingt als Jazzherbst statt\, und das Michaela Rabitsch & Robert Pawlik Quartet featured heuer Stephan Brodsky am Marimbaphon. Der Wiener Schlagzeuger ist seit den späten Siebzigerjahren in der Szene aktiv und widmet sich seit Mitte der 90er vermehrt seiner „großen Liebe“\, dem Marimba.\nZu hören sind Songs von Michaela Rabitsch – Trompeterin\, Sängerin und einzige Top-Jazztrompeterin Österreichs und ihrem kongenialen Partner\, dem Gitarristen Robert Pawlik sowie einige Stücke von Brodsky. Die Tunes wurzeln einerseits in den songorientierten Stilen der Jazztradition\, im Hardbop\, Swing\, Modern Jazz\, New Orleans Second Line und Blues\, und gehen andererseits eine Fusion ein mit Elementen aus Indischer\, Afrikanischer oder Südamerikanischer Musik.\nGeprägt durch ihre langjahrige Tourtätigkeit durch 50 Länder und 4 Kontinente  präsentieren die fünf Ausnahmemusiker ein abwechslungsreiches und vielschichtiges musikalisches Erlebnis der Extraklasse\, getaucht in ihren Signaturesound von Jazz gewürzt mit einer Prise World! \nBesetzung:\nMichaela Rabitsch  – Gesang\, Trompete\, Flügelhorn\,\nRobert Pawlik – Gitarre\,\nJoe Abentung – Kontrabass und\nDusan Novakov – Schlagzeug\nStephan Brodsky – Marimbaphon \nDer Josefstädter Jazztag ist eine Veranstaltung von KULT – Verein für zeitgemäße Kunst und Kultur\, mit freundlicher Unterstützung von Stadt Wien und AKM\, in Kooperation mit Tunnel und Vienna Jazzfloor. \n
URL:https://www.strawanzerin.at/termin/josefstaedter-jazzherbst/
LOCATION:Tunnel Vienna Live\, Florianigasse 39\, 1080\, Wien\, 1080\, Österreich
CATEGORIES:Kunst/Kultur,Musik,Wien
ATTACH;FMTTYPE=image/jpeg:https://www.strawanzerin.at/wp-content/uploads/2021/10/M.RabitschR.PawlikQuartetLiveCapeTownJazzFestival-3.jpg
ORGANIZER;CN="KULT%20%E2%80%93%20Verein%20f%C3%BCr%20zeitgem%C3%A4%C3%9Fe%20Kunst%20und%20Kultur%2C%20mit%20freundlicher%20Unterst%C3%BCtzung%20von%20Stadt%20Wien%20und%20AKM%2C%20in%20Kooperation%20mit%20Tunnel%20und%20Vienna%20Jazzfloor.":MAILTO:vereinkult@gmx.at
GEO:48.2118651;16.3481975
X-APPLE-STRUCTURED-LOCATION;VALUE=URI;X-ADDRESS=Tunnel Vienna Live Florianigasse 39 1080 Wien 1080 Österreich;X-APPLE-RADIUS=500;X-TITLE=Florianigasse 39:geo:16.3481975,48.2118651
END:VEVENT
END:VCALENDAR