BEGIN:VCALENDAR
VERSION:2.0
PRODID:-//STRAWANZERIN - ECPv4.9.5//NONSGML v1.0//EN
CALSCALE:GREGORIAN
METHOD:PUBLISH
X-WR-CALNAME:STRAWANZERIN
X-ORIGINAL-URL:https://www.strawanzerin.at
X-WR-CALDESC:Veranstaltungen im STRAWANZERIN
BEGIN:VTIMEZONE
TZID:"Europe/Vienna"
BEGIN:DAYLIGHT
TZOFFSETFROM:+0100
TZOFFSETTO:+0200
TZNAME:CEST
DTSTART:20220327T010000
END:DAYLIGHT
BEGIN:STANDARD
TZOFFSETFROM:+0200
TZOFFSETTO:+0100
TZNAME:CET
DTSTART:20221030T010000
END:STANDARD
END:VTIMEZONE
BEGIN:VEVENT
DTSTART;TZID="Europe/Vienna":20220216T190000
DTEND;TZID="Europe/Vienna":20220313T210000
DTSTAMP:20260420T161502
CREATED:20220115T202359Z
LAST-MODIFIED:20220202T121910Z
UID:82565-1645038000-1647205200@www.strawanzerin.at
SUMMARY:Jour fixe mit Heidrun Karlic und Doris Kloimstein
DESCRIPTION:Heidrun Karlic – Astrokatzen. Malerei\nDoris Kloimstein – Miss Maggie Lucifer äpfelt Goldknödel. Faschingslesung \n
URL:https://www.strawanzerin.at/termin/jour-fixe-mit-heidrun-karlic-und-doris-kloimstein/
LOCATION:Cafe Club International C.I.\, Payergasse 14\, Wien\, Wien\, 1160\, Österreich
CATEGORIES:Ausstellung,Deutsch,Gratis,Kunst/Kultur,Literatur,Wien
ATTACH;FMTTYPE=image/jpeg:https://www.strawanzerin.at/wp-content/uploads/2022/01/2022_02_16-VERNISSAGE-LESUNG.jpg
END:VEVENT
END:VCALENDAR