BEGIN:VCALENDAR
VERSION:2.0
PRODID:-//STRAWANZERIN - ECPv4.9.5//NONSGML v1.0//EN
CALSCALE:GREGORIAN
METHOD:PUBLISH
X-WR-CALNAME:STRAWANZERIN
X-ORIGINAL-URL:https://www.strawanzerin.at
X-WR-CALDESC:Veranstaltungen im STRAWANZERIN
BEGIN:VTIMEZONE
TZID:"Europe/Vienna"
BEGIN:DAYLIGHT
TZOFFSETFROM:+0100
TZOFFSETTO:+0200
TZNAME:CEST
DTSTART:20230326T010000
END:DAYLIGHT
BEGIN:STANDARD
TZOFFSETFROM:+0200
TZOFFSETTO:+0100
TZNAME:CET
DTSTART:20231029T010000
END:STANDARD
END:VTIMEZONE
BEGIN:VEVENT
DTSTART;TZID="Europe/Vienna":20230623T150000
DTEND;TZID="Europe/Vienna":20230623T170000
DTSTAMP:20260420T162233
CREATED:20230511T115600Z
LAST-MODIFIED:20230521T180756Z
UID:91424-1687532400-1687539600@www.strawanzerin.at
SUMMARY:Jüdisches Leben beidseits des Donaukanals (Walk & Talk)
DESCRIPTION:„Walk & Talk“ – Spazieren Sie mit dem*der Vortragenden von der Urania weg entlang des Donaukanals und kommen Sie in direkten Austausch. Hören Sie zu\, fragen Sie\, diskutieren Sie. \nBis 1938 lebten die meisten Jüdinnen und Juden Wiens im zweiten Bezirk. Aber es ist kaum mehr bekannt\, dass auch das Weißgerberviertel im dritten Bezirk ein wichtiges Wohngebiet für Jüd*innen war. Wir gehen zu Gedenkorten rund um den Radetzkyplatz und im Weißgerberviertel. Wir beginnen mit einer kurzen Einführung im Terrassensaal der Urania und enden bei der Gedenktafel\, die an die Verbrennung von ca. 200 Jüd*innen auf der Gänseweide 1421. \nIn Kooperation mit „Steine des Gedenkens an die Opfer der Shoah“ – steinedesgedenkens.at \n
URL:https://www.strawanzerin.at/termin/juedisches-leben-beidseits-des-donaukanals-walk-talk/
LOCATION:VHS Wiener Urania\, Uraniastraße 1\, Wien\, Wien\, 1010\, Österreich
ATTACH;FMTTYPE=image/jpeg:https://www.strawanzerin.at/wp-content/uploads/2023/05/Urania-am-Donaukanal-cPixabay.jpg
ORGANIZER;CN="VHS%20Wiener%20Urania":MAILTO:urania@vhs.at
END:VEVENT
END:VCALENDAR