BEGIN:VCALENDAR
VERSION:2.0
PRODID:-//STRAWANZERIN - ECPv4.9.5//NONSGML v1.0//EN
CALSCALE:GREGORIAN
METHOD:PUBLISH
X-WR-CALNAME:STRAWANZERIN
X-ORIGINAL-URL:https://www.strawanzerin.at
X-WR-CALDESC:Veranstaltungen im STRAWANZERIN
BEGIN:VTIMEZONE
TZID:"Europe/Helsinki"
BEGIN:DAYLIGHT
TZOFFSETFROM:+0200
TZOFFSETTO:+0300
TZNAME:EEST
DTSTART:20150329T010000
END:DAYLIGHT
BEGIN:STANDARD
TZOFFSETFROM:+0300
TZOFFSETTO:+0200
TZNAME:EET
DTSTART:20151025T010000
END:STANDARD
END:VTIMEZONE
BEGIN:VEVENT
DTSTART;TZID="Europe/Helsinki":20150427T190000
DTEND;TZID="Europe/Helsinki":20150427T210000
DTSTAMP:20260420T145346
CREATED:20150327T170559Z
LAST-MODIFIED:20150413T161832Z
UID:12741-1430161200-1430168400@www.strawanzerin.at
SUMMARY:Jürgen Bauer liest aus seinem Roman "Was wir fürchten"
DESCRIPTION: »Das erste Mal fühlte ich die Angst\, als mein Vater Kornkreise in ein Feld am Ortsrand trat und meine Mutter mich losschickte\, um ihn nach Hause zu holen\, bevor die Nachbarn etwas bemerken konnten.«\nGeorg erzählt aus seinem Leben\, das von Unruhe und Angst gezeichnet ist. Die Furcht vor seinem psychisch kranken Vater lässt ihn an allen Versuchen scheitern\, Vertrauen und Stabilität zu finden. Erst als Erwachsener gelingt es ihm\, die Kontrolle über sein eigenes Leben zu erlangen und sich sicher zu fühlen\, bis traumatische Ereignisse die Idylle zerreißen und sein Verfolgungswahn erneut ausbricht.\nSeine Mutter hält ihn für verrückt\, Georgs Frau scheitert daran\, ihn zu beschützen\, und auch sein bester Freund glaubt nicht an seine Erzählungen. Doch was\, wenn Georgs Ängste berechtigt sind und die Menschen in seinem Leben tatsächlich ein Geheimnis verbergen? Was\, wenn sich wirklich alles nur um ihn dreht?\nIm Dialog zwischen Georg und seinem Gegenüber entwickelt sich ein Machtspiel um die Wahrheit und ihre Bedeutung. Doch wer entscheidet\, ob eine Geschichte richtig erzählt ist? Vielleicht liegt die Lösung bei jener Person\, der er seine Geschichte anvertraut. Schritt für Schritt wird Georgs Leben entblättert\, bisherige Antworten werden infrage gestellt und müssen neu überdacht werden. \n
URL:https://www.strawanzerin.at/termin/juergen-bauer-liest-aus-seinem-roman-was-wir-fuerchten/
LOCATION:Österreich
CATEGORIES:Deutsch,Gratis,Kunst/Kultur,Literatur,Wien
ATTACH;FMTTYPE=image/jpeg:https://www.strawanzerin.at/wp-content/uploads/2015/03/was_wir_fuerchten.jpg
END:VEVENT
END:VCALENDAR