BEGIN:VCALENDAR
VERSION:2.0
PRODID:-//STRAWANZERIN - ECPv4.9.5//NONSGML v1.0//EN
CALSCALE:GREGORIAN
METHOD:PUBLISH
X-WR-CALNAME:STRAWANZERIN
X-ORIGINAL-URL:https://www.strawanzerin.at
X-WR-CALDESC:Veranstaltungen im STRAWANZERIN
BEGIN:VTIMEZONE
TZID:"Europe/Vienna"
BEGIN:DAYLIGHT
TZOFFSETFROM:+0100
TZOFFSETTO:+0200
TZNAME:CEST
DTSTART:20170326T010000
END:DAYLIGHT
BEGIN:STANDARD
TZOFFSETFROM:+0200
TZOFFSETTO:+0100
TZNAME:CET
DTSTART:20171029T010000
END:STANDARD
END:VTIMEZONE
BEGIN:VEVENT
DTSTART;TZID="Europe/Vienna":20170407T163000
DTEND;TZID="Europe/Vienna":20170407T203000
DTSTAMP:20260419T121448
CREATED:20170320T092651Z
LAST-MODIFIED:20170320T105422Z
UID:41949-1491582600-1491597000@www.strawanzerin.at
SUMMARY:K.u.k.-Genusstour begibt sich auf kulinarische »Schnitzeljagd« durch Wien
DESCRIPTION:So schmeckte Österreich schon zu Kaisers Zeiten! \nWie österreichisch ist das Schnitzel eigentlich? Und ist die echte Wiener Küche nicht immer auch ein Ausflug nach Böhmen\, Italien und Ungarn? Nun\, wenn es um Gaumenfreuden aus Kaisers Zeiten geht\, wissen die sachkundigen Gourmet-Guides von www.gtours.at Bescheid. Auf ihren genussvollen Streifzügen durch die Küchen der ehemaligen Monarchie tauchen die Teilnehmer in eine kulinarisch nach wie vor überaus lebendige Welt ein. Zahlreiche Schmankerl machen obendrein froh und satt. Die nächsten Termine sind Samstag\, 25. März\, und Freitag\, 7. April\, um 16.30 Uhr. \nInfo & Anmeldung:\nTel.: +43 699 1234 7000 \nBild: Genusstouren freuen große und kleine Gourmets\, Foto/© Gabriele Klima \n
URL:https://www.strawanzerin.at/termin/k-u-k-genusstour-begibt-sich-auf-kulinarische-schnitzeljagd-durch-wien/
LOCATION:Wien\, Prater\, Wien\, 1020\, Österreich
CATEGORIES:ab 7,Deutsch,Rundgang,Wien
ATTACH;FMTTYPE=image/jpeg:https://www.strawanzerin.at/wp-content/uploads/2017/03/Naschmarkt_Kind.jpg
GEO:48.2167269;16.3980286
X-APPLE-STRUCTURED-LOCATION;VALUE=URI;X-ADDRESS=Wien Prater Wien 1020 Österreich;X-APPLE-RADIUS=500;X-TITLE=Prater:geo:16.3980286,48.2167269
END:VEVENT
END:VCALENDAR