BEGIN:VCALENDAR
VERSION:2.0
PRODID:-//STRAWANZERIN - ECPv4.9.5//NONSGML v1.0//EN
CALSCALE:GREGORIAN
METHOD:PUBLISH
X-WR-CALNAME:STRAWANZERIN
X-ORIGINAL-URL:https://www.strawanzerin.at
X-WR-CALDESC:Veranstaltungen im STRAWANZERIN
BEGIN:VTIMEZONE
TZID:"Europe/Vienna"
BEGIN:DAYLIGHT
TZOFFSETFROM:+0100
TZOFFSETTO:+0200
TZNAME:CEST
DTSTART:20210328T010000
END:DAYLIGHT
BEGIN:STANDARD
TZOFFSETFROM:+0200
TZOFFSETTO:+0100
TZNAME:CET
DTSTART:20211031T010000
END:STANDARD
END:VTIMEZONE
BEGIN:VEVENT
DTSTART;TZID="Europe/Vienna":20210925T200000
DTEND;TZID="Europe/Vienna":20210925T220000
DTSTAMP:20260421T190950
CREATED:20210803T124846Z
LAST-MODIFIED:20210818T162712Z
UID:79403-1632600000-1632607200@www.strawanzerin.at
SUMMARY:Kabarett: Isabel Meili – GENUG
DESCRIPTION:Isabel Meili – GENUG im Kellertheater Wilheringerhof Klosterneuburg \nIsabel Meili pendelt zwischen Genügsamkeit und einer nicht stillbaren Gier\, mag Tiere aber hasst Fische\, plädiert für ein besseres Miteinander jedoch Nulltoleranz bei Schmatzgeräuschen.\nDie junge Schweizerin ist voller Gegensätze\, ihr Humor so vielschichtig wie sie selbst. \nDa treffen Infantilität auf Hedonismus\, Parodie auf Pointenhagel und Gangsta-Rap auf Menstruations-Ballade. \nGENUG – eine Hommage an die Selbstliebe und eine Liebeserklärung an die 90er. \nRegie: Magda Leeb\nFoto: Moni Fellner \nWeitere Infos:\nwww.isabelmeili.com\nwww.kellertheater.klosterneuburg.at \nTickets: kulturamt@klosterneuburg.at\nTel.: 02243/444/351 \nKarten zu € 21.- / 20.-\n(ermäßigt € 20.- / 19.- ) \n
URL:https://www.strawanzerin.at/termin/kabarett-isabel-meili-genug-4/
CATEGORIES:Theater/Kabarett
ATTACH;FMTTYPE=image/jpeg:https://www.strawanzerin.at/wp-content/uploads/2021/08/228780093_2584727461822677_9002160613970702154_n.jpg
ORGANIZER;CN="Kellertheater%20Wilheringerhof":MAILTO:kulturamt@klosterneuburg.at
END:VEVENT
END:VCALENDAR