BEGIN:VCALENDAR
VERSION:2.0
PRODID:-//STRAWANZERIN - ECPv4.9.5//NONSGML v1.0//EN
CALSCALE:GREGORIAN
METHOD:PUBLISH
X-WR-CALNAME:STRAWANZERIN
X-ORIGINAL-URL:https://www.strawanzerin.at
X-WR-CALDESC:Veranstaltungen im STRAWANZERIN
BEGIN:VTIMEZONE
TZID:"Europe/Vienna"
BEGIN:DAYLIGHT
TZOFFSETFROM:+0100
TZOFFSETTO:+0200
TZNAME:CEST
DTSTART:20170326T010000
END:DAYLIGHT
BEGIN:STANDARD
TZOFFSETFROM:+0200
TZOFFSETTO:+0100
TZNAME:CET
DTSTART:20171029T010000
END:STANDARD
END:VTIMEZONE
BEGIN:VEVENT
DTSTART;TZID="Europe/Vienna":20171002T080000
DTEND;TZID="Europe/Vienna":20171002T170000
DTSTAMP:20260422T023424
CREATED:20171002T183126Z
LAST-MODIFIED:20171004T144239Z
UID:47490-1506931200-1506963600@www.strawanzerin.at
SUMMARY:KABARETT MIT ERWIN HOLUB\, PETER FIALA UND FRIEDRICH SATTRA
DESCRIPTION:Einlass: 19:00\nBeginn: 19:30\nEintritt: um Spende für die Künstler wird gebeten. \nSIAMESISCH FÜR ANHÄNGER UND FORTGESCHNITTENE ist ein sakral-sozial-familiär-heerespolitisch-musikalisches Pikant-Kabarett über ein siamesisches Brüderpaar\, wie es unterschiedlicher nicht sein könnte!\nProgrammauszüge und Hoppalas findet ihr hier. \n
URL:https://www.strawanzerin.at/termin/kabarett-mit-erwin-holub-peter-fiala-und-friedrich-sattra-2/
LOCATION:HOB i RAUM\, Hanuschgasse 1\, Bad Vöslau\, Niederösterreich\, 2540
CATEGORIES:Theater/Kabarett
GEO:47.9686941;16.2205195
X-APPLE-STRUCTURED-LOCATION;VALUE=URI;X-ADDRESS=HOB i RAUM Hanuschgasse 1 Bad Vöslau Niederösterreich 2540;X-APPLE-RADIUS=500;X-TITLE=Hanuschgasse 1:geo:16.2205195,47.9686941
END:VEVENT
END:VCALENDAR