BEGIN:VCALENDAR
VERSION:2.0
PRODID:-//STRAWANZERIN - ECPv4.9.5//NONSGML v1.0//EN
CALSCALE:GREGORIAN
METHOD:PUBLISH
X-WR-CALNAME:STRAWANZERIN
X-ORIGINAL-URL:https://www.strawanzerin.at
X-WR-CALDESC:Veranstaltungen im STRAWANZERIN
BEGIN:VTIMEZONE
TZID:"Europe/Paris"
BEGIN:DAYLIGHT
TZOFFSETFROM:+0100
TZOFFSETTO:+0200
TZNAME:CEST
DTSTART:20150329T010000
END:DAYLIGHT
BEGIN:STANDARD
TZOFFSETFROM:+0200
TZOFFSETTO:+0100
TZNAME:CET
DTSTART:20151025T010000
END:STANDARD
END:VTIMEZONE
BEGIN:VEVENT
DTSTART;TZID="Europe/Paris":20150825T193000
DTEND;TZID="Europe/Paris":20150825T223000
DTSTAMP:20260423T122537
CREATED:20150722T075954Z
LAST-MODIFIED:20150723T082626Z
UID:18695-1440531000-1440541800@www.strawanzerin.at
SUMMARY:Kabarett Short Cuts
DESCRIPTION:Kabarett Short Cuts  \nmit: Flüsterzweieck\, RaDeschnig\, Rudi Schöller & Gerafi\nEine geballte Ladung an musikalisch theatralischem Satire-Spaß mit viel Gesellschaftskritik.\nPreisgekrönt mit „Menschenkür“ treffen Ulrike Haidacher und Antonia Stabinger auf die Kärntner Zwillinge Birgit und Nicole Radeschnig\, die „Rückblendend“ schalkhaft tönen. Das gibt dem „Vormärz“ aus „Wir sind Kaiser“ Rudi Schöller solo „Auftrieb“. Gerald Dell’mour und Rafael Wagner moderieren nicht nur\, sie haben bei vollem Einsatz auch Visionen im Talon – „ZONGO [Liebe ist doch analog]“. In Kooperation mit der Agentur Rideo. \n
URL:https://www.strawanzerin.at/termin/kabarett-short-cuts/
LOCATION:Österreich
CATEGORIES:ab 7,Deutsch,Kunst/Kultur,Theater/Kabarett,Wien
ATTACH;FMTTYPE=image/jpeg:https://www.strawanzerin.at/wp-content/uploads/2015/07/kabarett-shortcuts-banner.jpg
ORGANIZER;CN="Theater%20am%20Spittelberg":MAILTO:office@theateramspittelberg.at
END:VEVENT
END:VCALENDAR