BEGIN:VCALENDAR
VERSION:2.0
PRODID:-//STRAWANZERIN - ECPv4.9.5//NONSGML v1.0//EN
CALSCALE:GREGORIAN
METHOD:PUBLISH
X-WR-CALNAME:STRAWANZERIN
X-ORIGINAL-URL:https://www.strawanzerin.at
X-WR-CALDESC:Veranstaltungen im STRAWANZERIN
BEGIN:VTIMEZONE
TZID:"Europe/Vienna"
BEGIN:DAYLIGHT
TZOFFSETFROM:+0100
TZOFFSETTO:+0200
TZNAME:CEST
DTSTART:20170326T010000
END:DAYLIGHT
BEGIN:STANDARD
TZOFFSETFROM:+0200
TZOFFSETTO:+0100
TZNAME:CET
DTSTART:20171029T010000
END:STANDARD
END:VTIMEZONE
BEGIN:VEVENT
DTSTART;TZID="Europe/Vienna":20171207T190000
DTEND;TZID="Europe/Vienna":20171207T220000
DTSTAMP:20260420T204446
CREATED:20171115T155042Z
LAST-MODIFIED:20171122T124421Z
UID:49343-1512673200-1512684000@www.strawanzerin.at
SUMMARY:Kalli Seismo Graph
DESCRIPTION:Malerei und Grafik\nHELGA MADERA\, PETER SCHURZ \nVERNISSAGE: Donnerstag\, 7. Dezember 2017\, 19 Uhr\nBEGRÜSSUNG: Kurt Neuhold\nKULINARISCHES vom POOL7-Catering\nAusstellung bis 19. Jänner 2018 \n
URL:https://www.strawanzerin.at/termin/kalli-seismo-graph/
LOCATION:POOL7\, Rudolfsplatz 9\, Wien\, Wien\, 1010\, Österreich
CATEGORIES:Ausstellung,Wien
ATTACH;FMTTYPE=image/jpeg:https://www.strawanzerin.at/wp-content/uploads/2017/11/Kalli-01.jpg
GEO:48.213565;16.3719448
X-APPLE-STRUCTURED-LOCATION;VALUE=URI;X-ADDRESS=POOL7 Rudolfsplatz 9 Wien Wien 1010 Österreich;X-APPLE-RADIUS=500;X-TITLE=Rudolfsplatz 9:geo:16.3719448,48.213565
END:VEVENT
END:VCALENDAR