BEGIN:VCALENDAR
VERSION:2.0
PRODID:-//STRAWANZERIN - ECPv4.9.5//NONSGML v1.0//EN
CALSCALE:GREGORIAN
METHOD:PUBLISH
X-WR-CALNAME:STRAWANZERIN
X-ORIGINAL-URL:https://www.strawanzerin.at
X-WR-CALDESC:Veranstaltungen im STRAWANZERIN
BEGIN:VTIMEZONE
TZID:"Europe/Helsinki"
BEGIN:DAYLIGHT
TZOFFSETFROM:+0200
TZOFFSETTO:+0300
TZNAME:EEST
DTSTART:20140330T010000
END:DAYLIGHT
BEGIN:STANDARD
TZOFFSETFROM:+0300
TZOFFSETTO:+0200
TZNAME:EET
DTSTART:20141026T010000
END:STANDARD
END:VTIMEZONE
BEGIN:VEVENT
DTSTART;TZID="Europe/Helsinki":20140901T210000
DTEND;TZID="Europe/Helsinki":20140901T230000
DTSTAMP:20260422T073302
CREATED:20140901T172249Z
LAST-MODIFIED:20140902T072912Z
UID:4516-1409605200-1409612400@www.strawanzerin.at
SUMMARY:KAMAJAM play as you wish
DESCRIPTION:monatliche Jamsession des vereins KAMA (Kursangebote von Asylwerber_innen\, Migrant_innen und Asylberechtigten\, www.kama.or.at ) unter der Leitung von Jola.  \nBring your djembe\, ney\, guitar & co! \nhttp://deewan.at/play-as-you-wish/kamajam \n
URL:https://www.strawanzerin.at/termin/kamajam-play-as-you-wish-2/
LOCATION:Der Wiener Deewan\, Liechtensteinstraße 10\, Wien\, Wien\, 1090\, Österreich
CATEGORIES:Gratis,Kunst/Kultur,Musik,Wien
ATTACH;FMTTYPE=image/jpeg:https://www.strawanzerin.at/wp-content/uploads/2014/09/KAMAJAM-XII-2014-A4-mini.jpg
GEO:48.2170467;16.3627519
X-APPLE-STRUCTURED-LOCATION;VALUE=URI;X-ADDRESS=Der Wiener Deewan Liechtensteinstraße 10 Wien Wien 1090 Österreich;X-APPLE-RADIUS=500;X-TITLE=Liechtensteinstraße 10:geo:16.3627519,48.2170467
END:VEVENT
END:VCALENDAR