BEGIN:VCALENDAR
VERSION:2.0
PRODID:-//STRAWANZERIN - ECPv4.9.5//NONSGML v1.0//EN
CALSCALE:GREGORIAN
METHOD:PUBLISH
X-WR-CALNAME:STRAWANZERIN
X-ORIGINAL-URL:https://www.strawanzerin.at
X-WR-CALDESC:Veranstaltungen im STRAWANZERIN
BEGIN:VTIMEZONE
TZID:"Europe/Helsinki"
BEGIN:DAYLIGHT
TZOFFSETFROM:+0200
TZOFFSETTO:+0300
TZNAME:EEST
DTSTART:20150329T010000
END:DAYLIGHT
BEGIN:STANDARD
TZOFFSETFROM:+0300
TZOFFSETTO:+0200
TZNAME:EET
DTSTART:20151025T010000
END:STANDARD
END:VTIMEZONE
BEGIN:VEVENT
DTSTART;TZID="Europe/Helsinki":20151106T190000
DTEND;TZID="Europe/Helsinki":20151106T230000
DTSTAMP:20260421T040231
CREATED:20151030T124737Z
LAST-MODIFIED:20151103T113220Z
UID:21400-1446836400-1446850800@www.strawanzerin.at
SUMMARY:Kampf um Kobane
DESCRIPTION:Buchvorstellung mit dem Hrsg. Ismail Küpeli \nDer Kampf um Kobanê und Rojava ist eine zentrale Auseinandersetzung im Nahen und Mittleren Osten. Der Konflikt bietet Anlass\, zentrale politische Auseinandersetzungen neu aufzugreifen \nIm September 2014\, begann der „Islamische Staat“ (IS) den Angriff auf die kleine Grenzstadt Kobanê in Rojava/Nordsyrien. Nachdem aber Kobanê entgegen der Erwartungen nicht in kurzer Zeit fiel und die PKK-nahen kurdischen Kämpfer_innen die Stadt halten konnten\, wurde die Weltöffentlichkeit auf den Konflikt aufmerksam. Einige Wochen lang wurde hastig berichtet\, emotional bewegende Bilder wurden eingefangen und herumgereicht – nur um sich nach kurzer Zeit dem nächsten Konfliktherd zuzuwenden. \nDer Kampf um Kobanê und Rojava ist eine zentrale Auseinandersetzung im Nahen und Mittleren Osten\, in der alle relevanten Akteure auf die eine oder andere Weise involviert sind. Kobanê wird weiterhin die politischen Ereignisse in der Region prägen – sowohl den „Friedensprozess“ zwischen der Türkei und der PKK als auch den Büger_innenkrieg in Syrien. Der Konflikt bietet Anlass\, zentrale politische Auseinandersetzungen neu aufzugreifen – wie etwa die Frage nach Gewalt als Mittel der Politik und nach dem Entwurf einer neuen Gesellschaftsordnung. Anders gesagt: Lässt sich eine basisdemokratische Gesellschaft durch Krieg verteidigen oder ist eine militärische Auseinandersetzung der Tod für jegliches emanzipatorische Projekt? \nBuchpräsentation mit Ismail Küpeli\, Herausgeber des Sammelbands „Kampf um Kobanê\, Kampf um die Zukunft des Nahen Ostens“\, wird die Beiträge über die Situation in Rojava\, die politische Lage in der Türkei\, den blutigen Bürger_innenkrieg in Syrien und den „Islamischen Staat“ darstellen und die Überlegungen der Autor_innen zur Diskussion stellen. \n
URL:https://www.strawanzerin.at/termin/kampf-um-kobane/
LOCATION:Bibliothek von unten\, Wipplingerstr. 23\, Wien\, Wien\, 1010\, Österreich
CATEGORIES:Deutsch,Gratis,Transnational,Vortrag/Symposium,Wien
ORGANIZER;CN="Unnamed%20Organizer":MAILTO:info@bibliothek-vonunten.org
GEO:48.2127749;16.3682165
X-APPLE-STRUCTURED-LOCATION;VALUE=URI;X-ADDRESS=Bibliothek von unten Wipplingerstr. 23 Wien Wien 1010 Österreich;X-APPLE-RADIUS=500;X-TITLE=Wipplingerstr. 23:geo:16.3682165,48.2127749
END:VEVENT
END:VCALENDAR