BEGIN:VCALENDAR
VERSION:2.0
PRODID:-//STRAWANZERIN - ECPv4.9.5//NONSGML v1.0//EN
CALSCALE:GREGORIAN
METHOD:PUBLISH
X-WR-CALNAME:STRAWANZERIN
X-ORIGINAL-URL:https://www.strawanzerin.at
X-WR-CALDESC:Veranstaltungen im STRAWANZERIN
BEGIN:VTIMEZONE
TZID:"Europe/Helsinki"
BEGIN:DAYLIGHT
TZOFFSETFROM:+0200
TZOFFSETTO:+0300
TZNAME:EEST
DTSTART:20170326T010000
END:DAYLIGHT
BEGIN:STANDARD
TZOFFSETFROM:+0300
TZOFFSETTO:+0200
TZNAME:EET
DTSTART:20171029T010000
END:STANDARD
END:VTIMEZONE
BEGIN:VEVENT
DTSTART;TZID="Europe/Helsinki":20170119T190000
DTEND;TZID="Europe/Helsinki":20170119T210000
DTSTAMP:20260421T023328
CREATED:20170102T105838Z
LAST-MODIFIED:20170103T155720Z
UID:38436-1484852400-1484859600@www.strawanzerin.at
SUMMARY:Kampf ums Öl. Konflikte\, Profite und Alternativen
DESCRIPTION:– – – – – – – – – – – – – ENGLISH VERSION BELOW – – – – – – – – – – – — – –  \nPODIUM \nPhilippe Le Billon\nDepartment of Geography and Liu Institute for Global Issues\, University of British Columbia\, Vancouver\, Kanada \nManana Kochladze\nGreen Alternative und CEE Bankwatch Network\, Tiflis\, Georgien \nModeration: Karin Fischer\, Mattersburger Kreis für Entwicklungspolitik an den Österreichischen Universitäten/VIDC\nBegrüßung: Martina Neuwirth\, VIDC \nVeranstaltungssprachen: Englisch und Deutsch mit Simultandolmetschung \nAnmeldung: neuwirth@vidc.org \nHINTERGRUND \nFossile Energie ist die Grundlage unseres Wirtschaftssystems. Regierungen und Energiekonzerne\, die Länder oder Gebiete mit Öl- und Gasvorkommen und ihre Vertriebswege kontrollieren\, sind dementsprechend mächtig. Dabei sind rohstoffreiche Länder überproportional von unterschiedlichen Formen von Gewalt\, Steuer- und Kapitalflucht betroffen. Die Konflikte im Südsudan\, in Nigeria\, in Syrien und in der Ukraine mögen vielschichtige historische Ursachen haben. Sie sind aber auch neue „Energiekriege“ mit weltpolitischer Bedeutung. Um Pipelines und Tankerschiffrouten zu sichern\, ist ein Netzwerk an Militärbasen entstanden. Auf lokaler Ebene ist die Rohstoffgewinnung an vielen Orten mit Gewalt verbunden. Firmen sichern sich den Zugriff auf Rohstoffe mit brutaler Einschüchterung und privaten Sicherheitsfirmen. Die ansässige Bevölkerung wird oftmals vertrieben. \nManana Kochladze hat der lokalen Bevölkerung in der Kampagne gegen die Baku-Tiflis-Ceyhan Öl-Pipeline eine Stimme gegeben. Gemeinsam mit Bauern und Bäuerinnen sowie Fischer_innen ging sie gegen ökologische Zerstörung und Enteignung vor. Philippe Le Billon macht sich für eine weitgreifende Reformagenda stark\, die einerseits die Grundbedürfnisse und die Sicherheit der lokalen Bevölkerung zum Ziel hat\, andererseits neue Formen der politischen Regulierung anpeilt. Denn aus dem ökologischen und politischen Konfliktpotenzial der fossilen Energiegewinnung erwächst die Notwendigkeit\, den Übergang zu kohlenstoffärmeren Energiesystemen und einer nachhaltigen Wirtschaftsweise einzuleiten. Das VIDC lädt zur Diskussion über Konflikte und Profite im sowie über alternative Entwicklungspfade aus dem fossilen Kapitalismus. \nWeitere Informationen zur Veranstaltung:\nhttp://www.vidc.org/themen/wirtschaft/wirtschaftspolitik/kampf-ums-oel/ \nCopyright Veranstaltungsfoto: © huyangshu/Shutterstock.com \n– – – – – – – – – – – – – – – – – – – – ENGLISH – – – – – – – – – – – – – – – – – – – – \nPANEL \nPhilippe Le Billon\nDepartment of Geography and Liu Institute for Global Issues\, University of British Columbia\, Vancouver\, Kanada \nManana Kochladze\nGreen Alternative and CEE Bankwatch Network\, Tiflis\, Georgien \nChair: Karin Fischer\, Mattersburg Circle for Development Studies at Austrian Universities/VIDC\nWelcome: Martina Neuwirth\, VIDC \nLanguages: English and German with simultaneous interpretation \nRegistration: neuwirth@vidc.org \nBACKGROUND \nOur economic system is based on fossil-fuel energy use. Accordingly\, governments and energy companies that control countries or areas with rich oil and gas reserves are extremely powerful. Multiple forms of violence\, tax avoidance and capital flight accompany the history of resources exploitation and current business practices. The conflicts in South Sudan\, Nigeria\, Syria and the Ukraine have no doubt several reasons\, but they are also “new energy wars”. The land and sea geography of ‚choke points‘\, or bottle-necks\, and vulnerable parts in oil transportation networks has led to the set up of military bases and Navy patrols along key pipelines routes. At local level\, resource extraction is often associated with expulsion and flight. Increasingly\, private armies and security forces secure economically valuable territorial enclaves.  \nManana Kochladze gave a voice to local people in her campaign against the Baku-Tbilisi-Ceyhan oil pipeline. Together with peasants and fishers\, she mobilized against ecological destruction and dispossession. Philippe Le Billon supports a broad reform agenda\, prioritizing the basic needs and security of local populations. He proposes new forms of oil governance in the interest of peace. The multiple forms of political\, social and environmental conflicts through fossil fuel generation call for a transition to de-carbonized energy systems and sustainable development. The VIDC invites you to discuss conflicts and profits associated with fossil capitalism and ways to transcend it. \nFor further informations\, please click on the following link:\nhttp://www.vidc.org/en/topics/international-economy/economic-policies/struggle-over-oil/ \nCopyright event photo: © huyangshu/Shutterstock.com \n
URL:https://www.strawanzerin.at/termin/kampf-ums-oel-konflikte-profite-und-alternativen/
LOCATION:Diplomatische Akademie (Wien)\, Favoritenstraße 15a\, Wien\, Wien\, 1040 \, Österreich
CATEGORIES:Deutsch,Gratis,Sonstiges,Vortrag/Symposium,Wien
ATTACH;FMTTYPE=image/jpeg:https://www.strawanzerin.at/wp-content/uploads/2017/01/oelfoerderung__c_huyangshu_karussel.jpg
ORGANIZER;CN="VIDC":MAILTO: office@vidc.org
GEO:48.1942176;16.3703657
X-APPLE-STRUCTURED-LOCATION;VALUE=URI;X-ADDRESS=Diplomatische Akademie (Wien) Favoritenstraße 15a Wien Wien 1040  Österreich;X-APPLE-RADIUS=500;X-TITLE=Favoritenstraße 15a:geo:16.3703657,48.1942176
END:VEVENT
END:VCALENDAR