BEGIN:VCALENDAR
VERSION:2.0
PRODID:-//STRAWANZERIN - ECPv4.9.5//NONSGML v1.0//EN
CALSCALE:GREGORIAN
METHOD:PUBLISH
X-WR-CALNAME:STRAWANZERIN
X-ORIGINAL-URL:https://www.strawanzerin.at
X-WR-CALDESC:Veranstaltungen im STRAWANZERIN
BEGIN:VTIMEZONE
TZID:"Europe/Vienna"
BEGIN:DAYLIGHT
TZOFFSETFROM:+0100
TZOFFSETTO:+0200
TZNAME:CEST
DTSTART:20230326T010000
END:DAYLIGHT
BEGIN:STANDARD
TZOFFSETFROM:+0200
TZOFFSETTO:+0100
TZNAME:CET
DTSTART:20231029T010000
END:STANDARD
END:VTIMEZONE
BEGIN:VEVENT
DTSTART;TZID="Europe/Vienna":20230603T193000
DTEND;TZID="Europe/Vienna":20230603T220000
DTSTAMP:20260421T135633
CREATED:20230522T133742Z
LAST-MODIFIED:20230522T133742Z
UID:91823-1685820600-1685829600@www.strawanzerin.at
SUMMARY:Kapiko Ethnojazz aus Istanbul (Konzert)
DESCRIPTION:KAPIKO – Konzert \nDie Istanbuler Fusion und Ethno Jazz Band KAPIKO spielt am 3. Juni 2023 um 19:30 im Innenhof des Wiener Amerlinghauses (Stiftgasse 8\, 1070 Wien) bei freiem Eintritt ein Freiluftkonzert (bei Regen überdacht). Die Gruppe hat ihr neues Album Nova im Gepäck\, das von der türkischen Musikpresse als eines der besten türkischen Jazzalben 2022 gefeiert wurde. Das Konzert verspricht ein spannendes Hörerlebnis zwischen groovigem Fusion Jazz und orientalischen Einflüssen. Ein Muss für alle Musik- und Jazzliebhaber! \n
URL:https://www.strawanzerin.at/termin/kapiko-ethnojazz-aus-istanbul-konzert/
LOCATION:Amerlinghaus\, Stiftgasse 8\, Wien\, Wien\, 1070
CATEGORIES:Gratis,Musik
ORGANIZER;CN="Saz-Verein":MAILTO:kgrill@chello.at
GEO:48.2031259;16.3543246
X-APPLE-STRUCTURED-LOCATION;VALUE=URI;X-ADDRESS=Amerlinghaus Stiftgasse 8 Wien Wien 1070;X-APPLE-RADIUS=500;X-TITLE=Stiftgasse 8:geo:16.3543246,48.2031259
END:VEVENT
END:VCALENDAR