BEGIN:VCALENDAR
VERSION:2.0
PRODID:-//STRAWANZERIN - ECPv4.9.5//NONSGML v1.0//EN
CALSCALE:GREGORIAN
METHOD:PUBLISH
X-WR-CALNAME:STRAWANZERIN
X-ORIGINAL-URL:https://www.strawanzerin.at
X-WR-CALDESC:Veranstaltungen im STRAWANZERIN
BEGIN:VTIMEZONE
TZID:"Europe/Paris"
BEGIN:DAYLIGHT
TZOFFSETFROM:+0100
TZOFFSETTO:+0200
TZNAME:CEST
DTSTART:20150329T010000
END:DAYLIGHT
BEGIN:STANDARD
TZOFFSETFROM:+0200
TZOFFSETTO:+0100
TZNAME:CET
DTSTART:20151025T010000
END:STANDARD
END:VTIMEZONE
BEGIN:VEVENT
DTSTART;TZID="Europe/Paris":20150608T170000
DTEND;TZID="Europe/Paris":20150608T180000
DTSTAMP:20260423T114428
CREATED:20150525T143526Z
LAST-MODIFIED:20150602T140642Z
UID:15014-1433782800-1433786400@www.strawanzerin.at
SUMMARY:Kasperl und der falsche Freund
DESCRIPTION:Der Kasperl hat einen neuen Freund. Aber ist er dies wirlich?\nSpaß und Spannung für Groß und Klein. \n
URL:https://www.strawanzerin.at/termin/kasperl-und-der-falsche-freund/
LOCATION:Spielraum Regenwetter\, Kalvarienberggasse 17\, Wien\, Wien\, 1170\, Österreich
CATEGORIES:bis 7,Deutsch,Kinderkultur,Kunst/Kultur,Wien
ORGANIZER;CN="Puppenb%C3%BChne%20%22Sauerkraut%20mit%20Zwetschkenkn%C3%B6deln%22":MAILTO:mail@ulrikedorner.at
GEO:48.216003;16.3318734
X-APPLE-STRUCTURED-LOCATION;VALUE=URI;X-ADDRESS=Spielraum Regenwetter Kalvarienberggasse 17 Wien Wien 1170 Österreich;X-APPLE-RADIUS=500;X-TITLE=Kalvarienberggasse 17:geo:16.3318734,48.216003
END:VEVENT
END:VCALENDAR