BEGIN:VCALENDAR
VERSION:2.0
PRODID:-//STRAWANZERIN - ECPv4.9.5//NONSGML v1.0//EN
CALSCALE:GREGORIAN
METHOD:PUBLISH
X-WR-CALNAME:STRAWANZERIN
X-ORIGINAL-URL:https://www.strawanzerin.at
X-WR-CALDESC:Veranstaltungen im STRAWANZERIN
BEGIN:VTIMEZONE
TZID:"Europe/Vienna"
BEGIN:DAYLIGHT
TZOFFSETFROM:+0100
TZOFFSETTO:+0200
TZNAME:CEST
DTSTART:20170326T010000
END:DAYLIGHT
BEGIN:STANDARD
TZOFFSETFROM:+0200
TZOFFSETTO:+0100
TZNAME:CET
DTSTART:20171029T010000
END:STANDARD
END:VTIMEZONE
BEGIN:VEVENT
DTSTART;TZID="Europe/Vienna":20171026T100000
DTEND;TZID="Europe/Vienna":20171026T140000
DTSTAMP:20260423T144112
CREATED:20171023T123650Z
LAST-MODIFIED:20171023T130824Z
UID:48046-1509012000-1509026400@www.strawanzerin.at
SUMMARY:Keine neuen Reaktoren an Österreichs Grenzen-Keine Laufzeitverlängerungen alter AKWs
DESCRIPTION:Dringlicher Aufruf zur Kundgebung \nEs ist hoch an der Zeit den Druck auf die Politik zu erhöhen:\nSchluß mit Atomstrom-Importen durch Zertifikate-Handel  –  Schluß mit Atomkraft in Europa !\nKommen Sie und werden Sie mit uns aktiv.\nEs geschieht nichts Gutes\, außer man tut es ! \n
URL:https://www.strawanzerin.at/termin/keine-neuen-reaktoren-an-oesterreichs-grenzen-keine-laufzeitverlaengerungen-alter-akws/
CATEGORIES:Kundgebung
END:VEVENT
END:VCALENDAR