BEGIN:VCALENDAR
VERSION:2.0
PRODID:-//STRAWANZERIN - ECPv4.9.5//NONSGML v1.0//EN
CALSCALE:GREGORIAN
METHOD:PUBLISH
X-WR-CALNAME:STRAWANZERIN
X-ORIGINAL-URL:https://www.strawanzerin.at
X-WR-CALDESC:Veranstaltungen im STRAWANZERIN
BEGIN:VTIMEZONE
TZID:"Europe/Vienna"
BEGIN:DAYLIGHT
TZOFFSETFROM:+0100
TZOFFSETTO:+0200
TZNAME:CEST
DTSTART:20240331T010000
END:DAYLIGHT
BEGIN:STANDARD
TZOFFSETFROM:+0200
TZOFFSETTO:+0100
TZNAME:CET
DTSTART:20241027T010000
END:STANDARD
END:VTIMEZONE
BEGIN:VEVENT
DTSTART;TZID="Europe/Vienna":20240528T100000
DTEND;TZID="Europe/Vienna":20240528T170000
DTSTAMP:20260421T105929
CREATED:20240521T103254Z
LAST-MODIFIED:20240521T103254Z
UID:99296-1716890400-1716915600@www.strawanzerin.at
SUMMARY:KELTEN - Mitmachausstellung für Kinder
DESCRIPTION:Das MAMUZ Museum Mistelbach zeigt seine erste Kinder-Ausstellung. Hier erfahren die jungen Entdeckerinnen und Entdecker interaktiv und spielerisch alles Wissenswerte über die keltischen Stämme\, die in den fünf Jahrhunderten bis Christi Geburt auch in Niederösterreich gelebt haben. Zu den Themen Kunst\, Textilien\, Keramik\, Krieger und Druiden gibt es allerlei zu erleben und auszuprobieren. Im Mittelpunkt steht dabei stets das Mitmachen. \nAusstellungsdauer:\nbis 24. November 2024 \nÖffnungszeiten:\nDienstag bis Sonntag & an Feiertagen auch montags\, jeweils 10 bis 17 Uhr \nOrt:\nMAMUZ Museum Mistelbach\, Waldstraße 44-46\, 2130 Mistelbach \nKELTEN\nMitmachausstellung für Kinder \nFoto/© MAMUZ und Asuman Üral Huber \n
URL:https://www.strawanzerin.at/termin/kelten-mitmachausstellung-fuer-kinder-2/2024-05-28/
LOCATION:MAMUZ Museum Mistelbach\, Waldstraße 44-46\, Mistelbach\, Niederösterreich\, 2130\, Österreich
CATEGORIES:Ausstellung,bis 7,Kinderkultur,Niederösterreich
ATTACH;FMTTYPE=image/jpeg:https://www.strawanzerin.at/wp-content/uploads/2024/05/1-KELTEN-Mitmachausstellung-fuer-Kinder-PRINT-c-MAMUZ-und-Asuman-Ueral-Huber.jpg
END:VEVENT
END:VCALENDAR