BEGIN:VCALENDAR
VERSION:2.0
PRODID:-//STRAWANZERIN - ECPv4.9.5//NONSGML v1.0//EN
CALSCALE:GREGORIAN
METHOD:PUBLISH
X-WR-CALNAME:STRAWANZERIN
X-ORIGINAL-URL:https://www.strawanzerin.at
X-WR-CALDESC:Veranstaltungen im STRAWANZERIN
BEGIN:VTIMEZONE
TZID:"Europe/Vienna"
BEGIN:DAYLIGHT
TZOFFSETFROM:+0100
TZOFFSETTO:+0200
TZNAME:CEST
DTSTART:20250330T010000
END:DAYLIGHT
BEGIN:STANDARD
TZOFFSETFROM:+0200
TZOFFSETTO:+0100
TZNAME:CET
DTSTART:20251026T010000
END:STANDARD
END:VTIMEZONE
BEGIN:VEVENT
DTSTART;TZID="Europe/Vienna":20250216T110000
DTEND;TZID="Europe/Vienna":20250216T120000
DTSTAMP:20260420T212750
CREATED:20250206T125530Z
LAST-MODIFIED:20250206T125530Z
UID:105783-1739703600-1739707200@www.strawanzerin.at
SUMMARY:Kinderkonzerte im Ehrbar Saal: DER EHRBÄR UND DAS KLAVIER
DESCRIPTION:Die Ehrbaren Kinderkonzerte sind unser Angebot an unsere jüngsten Musikhörer:innen und die ganze Familie.\nSie sind märchenhaft\, interaktiv – als Mitsingkonzert\, mit Rätselwettbewerb\, … you name it – und seit seinem letzten Frühlingserwachen sind sie nicht mehr ohne den EhrBÄRen vorstellbar! Er hat schon viele Fans! Und natürlich gibt es – von unserer Intendantin ausgewählte – hochkarätige klassische Musik bei jedem der Konzerte.\nUnsere Altersempfehlung: Ab 4 – bis Hundertplus. Auch „große Kinder“ werden Freude haben\, an der Musik\, aber sicher auch an den humorvollen und informativen Geschichten.\nUnd das Schönste daran: Der Eintritt ist für alle frei! Zählkarten gibt es bei www.eventjet.at.  \nCathrin Chytil | Konzept\, Text\, Erzählerin\nBranimir Agovi |Ehrbär\, Bariton \n
URL:https://www.strawanzerin.at/termin/kinderkonzerte-im-ehrbar-saal-der-ehrbaer-und-das-klavier-2/
LOCATION:Ehrbar Saal\, Mühlgasse 28-30\, Wien\, Wien\, 1040 \, Österreich
CATEGORIES:Kinderkultur,Kunst/Kultur,Wien
ATTACH;FMTTYPE=image/jpeg:https://www.strawanzerin.at/wp-content/uploads/2025/01/Der-EHRBaer-und-das-Klavier-©Attila-Kovacs.jpg
GEO:48.196889;16.3629043
X-APPLE-STRUCTURED-LOCATION;VALUE=URI;X-ADDRESS=Ehrbar Saal Mühlgasse 28-30 Wien Wien 1040  Österreich;X-APPLE-RADIUS=500;X-TITLE=Mühlgasse 28-30:geo:16.3629043,48.196889
END:VEVENT
END:VCALENDAR