BEGIN:VCALENDAR
VERSION:2.0
PRODID:-//STRAWANZERIN - ECPv4.9.5//NONSGML v1.0//EN
CALSCALE:GREGORIAN
METHOD:PUBLISH
X-WR-CALNAME:STRAWANZERIN
X-ORIGINAL-URL:https://www.strawanzerin.at
X-WR-CALDESC:Veranstaltungen im STRAWANZERIN
BEGIN:VTIMEZONE
TZID:"Europe/Vienna"
BEGIN:DAYLIGHT
TZOFFSETFROM:+0100
TZOFFSETTO:+0200
TZNAME:CEST
DTSTART:20230326T010000
END:DAYLIGHT
BEGIN:STANDARD
TZOFFSETFROM:+0200
TZOFFSETTO:+0100
TZNAME:CET
DTSTART:20231029T010000
END:STANDARD
END:VTIMEZONE
BEGIN:VEVENT
DTSTART;TZID="Europe/Vienna":20230126T193000
DTEND;TZID="Europe/Vienna":20230126T210000
DTSTAMP:20260420T161542
CREATED:20230109T151903Z
LAST-MODIFIED:20230113T101532Z
UID:88320-1674761400-1674766800@www.strawanzerin.at
SUMMARY:Klassiches Konzert - Schwarzenberg-Trio
DESCRIPTION:Erleben Sie einen stilvollen Abend mit einem klassischen Konzert des Schwarzenberg Trios. Die Künstler Hanna Bachmann (Klavier)\, Markus Siegert (Violine) und Roland Lindenthal (Violoncello) werden im ehrwürdigen Ambiente des Palais Eschenbach Werke von Ludwig van Beethoven\, Dimitri Shostakovich und Astor Piazzolla spielen. Das Konzert findet inklusive einer Weinbegleitung vom Bio Weingut Siegert statt. \n
URL:https://www.strawanzerin.at/termin/klassiches-konzert-schwarzenberg-trio/
LOCATION:Haus der Ingenieure\, Palais Eschenbach\, Eschenbachgasse 9\, Wien\, Wien\, 1010\, Österreich
CATEGORIES:Musik,Wien
ATTACH;FMTTYPE=image/jpeg:https://www.strawanzerin.at/wp-content/uploads/2023/01/1670849632099.jpg
END:VEVENT
END:VCALENDAR