BEGIN:VCALENDAR
VERSION:2.0
PRODID:-//STRAWANZERIN - ECPv4.9.5//NONSGML v1.0//EN
CALSCALE:GREGORIAN
METHOD:PUBLISH
X-WR-CALNAME:STRAWANZERIN
X-ORIGINAL-URL:https://www.strawanzerin.at
X-WR-CALDESC:Veranstaltungen im STRAWANZERIN
BEGIN:VTIMEZONE
TZID:"Europe/Paris"
BEGIN:DAYLIGHT
TZOFFSETFROM:+0100
TZOFFSETTO:+0200
TZNAME:CEST
DTSTART:20150329T010000
END:DAYLIGHT
BEGIN:STANDARD
TZOFFSETFROM:+0200
TZOFFSETTO:+0100
TZNAME:CET
DTSTART:20151025T010000
END:STANDARD
END:VTIMEZONE
BEGIN:VEVENT
DTSTART;TZID="Europe/Paris":20150506T200000
DTEND;TZID="Europe/Paris":20150506T220000
DTSTAMP:20260423T193241
CREATED:20150427T084114Z
LAST-MODIFIED:20150429T081830Z
UID:14294-1430942400-1430949600@www.strawanzerin.at
SUMMARY:Klaus Rott - Von echten Wienern
DESCRIPTION:Karli Sackbauer kommt heim ins Industrie!\nHier im Industrie hat Ernst Hinterberger seine legendäre Fernsehserie „Ein echter Wiener geht nicht unter“ geschrieben. Klaus Rott war der Filmsohn von „Mundl“ Sackbauer. An diesem Abend beschert er uns mit seinem aktuellen Programm einen heiteren Rückblick in das Leben der Arbeiterfamilie Sackbauer von 1975 bis 1979.  \n
URL:https://www.strawanzerin.at/termin/klaus-rott-von-echten-wienern/
LOCATION:Traditionscafé Industrie\, Margaretengürtel 12\, Wien\, Wien\, 1050\, Österreich
CATEGORIES:Deutsch,freie Spende,Sonstiges,Theater/Kabarett,Wien
ATTACH;FMTTYPE=image/jpeg:https://www.strawanzerin.at/wp-content/uploads/2015/04/klaus_rott_fb.jpg
ORGANIZER;CN="Ruth%20Binder":MAILTO:event@cafe-industrie.at
GEO:48.1838252;16.3664539
X-APPLE-STRUCTURED-LOCATION;VALUE=URI;X-ADDRESS=Traditionscafé Industrie Margaretengürtel 12 Wien Wien 1050 Österreich;X-APPLE-RADIUS=500;X-TITLE=Margaretengürtel 12:geo:16.3664539,48.1838252
END:VEVENT
END:VCALENDAR