BEGIN:VCALENDAR
VERSION:2.0
PRODID:-//STRAWANZERIN - ECPv4.9.5//NONSGML v1.0//EN
CALSCALE:GREGORIAN
METHOD:PUBLISH
X-WR-CALNAME:STRAWANZERIN
X-ORIGINAL-URL:https://www.strawanzerin.at
X-WR-CALDESC:Veranstaltungen im STRAWANZERIN
BEGIN:VTIMEZONE
TZID:"Europe/Vienna"
BEGIN:DAYLIGHT
TZOFFSETFROM:+0100
TZOFFSETTO:+0200
TZNAME:CEST
DTSTART:20220327T010000
END:DAYLIGHT
BEGIN:STANDARD
TZOFFSETFROM:+0200
TZOFFSETTO:+0100
TZNAME:CET
DTSTART:20221030T010000
END:STANDARD
END:VTIMEZONE
BEGIN:VEVENT
DTSTART;TZID="Europe/Vienna":20220215T200000
DTEND;TZID="Europe/Vienna":20220215T220000
DTSTAMP:20260422T121203
CREATED:20220202T121524Z
LAST-MODIFIED:20220202T121524Z
UID:82615-1644955200-1644962400@www.strawanzerin.at
SUMMARY:KNECHTE von Caren Jeß
DESCRIPTION:Schweigen der Lämmer meets Geschlossene Gesellschaft. Die Taten begeht die Gesellschaft gemeinsam\, aber ins Gefängnis gehen nur diejenigen\, die am Ende der Hackordnung stehen. Fünf Männer aus unterschiedlichen Welten und mit differenten Geschichten im Gepäck\, treffen unfreiwillig hinter Gitterstäben aufeinander. Die Kommunikation hier drinnen ist genauso schwierig wie da draußen. Schuldzuweisungen und Gewissensbisse begleiten die fünf tagtäglich bei ihren Runden über den Gefängnishof. Kurz flackert Solidarität auf\, nur um gleich wieder aus Angst und aus gegenseitigem Hass zu erlöschen. In den sich zuspitzenden Zusammentreffen der „Häfnbrüder“\, versucht jeder hinter die Geschichte des anderen zu kommen\, dabei scheint sich aber langsam zu offenbaren\, dass sie selbst zu ihren eigenen Folterknechten bestimmt sind … \nCaren Jeß zoomt mit einer derben und zugleich bildreichen Sprache in die Eingeweide unserer Gesellschaft hinein. Mit einem invertierten Blick in die global vorherrschende Misogynie und falsch verstandene Männlichkeit der angry lost boys\, macht sie sich auf die Suche nach den Sündenböcken\, die der Klassismus in unserer Gesellschaft für die aufstrebende Gewalt unter dem Deckmantel der Gerechtigkeit opfert. \nRegie: Ebru Tartιcι Borchers | Bühne & Kostüm: Sam Beklik | Choreografie: Azahara Sanz Jara | Video: Christian Borchers | Regieassistenz: Leonie Frühe \nMit: Nikita Buldyrski\, Servan Durmaz\, Alaaeldin Dyab\, Kai Götting\, Igor Karbus \nAufführungsrechte: S. Fischer Verlag Theater & Medien \nDiplominszenierung des Studiengangs für Schauspiel und Regie der Universität Mozarteum Salzburg \n
URL:https://www.strawanzerin.at/termin/knechte-von-caren-jess/
LOCATION:Kosmos Theater Wien\, Siebensterngasse 42-44\, Wien\, Wien\, 1070\, Österreich
CATEGORIES:Theater/Kabarett
ATTACH;FMTTYPE=image/jpeg:https://www.strawanzerin.at/wp-content/uploads/2022/01/NL_KNECHTEcChristian-Borchers.jpg
GEO:48.2023536;16.3513259
X-APPLE-STRUCTURED-LOCATION;VALUE=URI;X-ADDRESS=Kosmos Theater Wien Siebensterngasse 42-44 Wien Wien 1070 Österreich;X-APPLE-RADIUS=500;X-TITLE=Siebensterngasse 42-44:geo:16.3513259,48.2023536
END:VEVENT
END:VCALENDAR