BEGIN:VCALENDAR
VERSION:2.0
PRODID:-//STRAWANZERIN - ECPv4.9.5//NONSGML v1.0//EN
CALSCALE:GREGORIAN
METHOD:PUBLISH
X-WR-CALNAME:STRAWANZERIN
X-ORIGINAL-URL:https://www.strawanzerin.at
X-WR-CALDESC:Veranstaltungen im STRAWANZERIN
BEGIN:VTIMEZONE
TZID:"Europe/Vienna"
BEGIN:DAYLIGHT
TZOFFSETFROM:+0100
TZOFFSETTO:+0200
TZNAME:CEST
DTSTART:20220327T010000
END:DAYLIGHT
BEGIN:STANDARD
TZOFFSETFROM:+0200
TZOFFSETTO:+0100
TZNAME:CET
DTSTART:20221030T010000
END:STANDARD
END:VTIMEZONE
BEGIN:VEVENT
DTSTART;TZID="Europe/Vienna":20220925T200000
DTEND;TZID="Europe/Vienna":20220925T220000
DTSTAMP:20260423T230221
CREATED:20220820T145040Z
LAST-MODIFIED:20220831T074837Z
UID:86130-1664136000-1664143200@www.strawanzerin.at
SUMMARY:KNH-Sonntagskind #27: Storm Lily
DESCRIPTION:Im Rahmen von Forum Kulturnetz Hernals gibt es folgende Großartigkeit beim Sonntagskind #27 zu hören\, erleben & im Livestream zu sehen : STORM LILY \nRockig und grungig präsentieren Storm Lily feinsten psychedelic Folk. Zwischen zarten Melodien entstehen Hymnen gegen Autos in der Stadt oder der Schrei nach einem Sofa für alle. Die Liebe zur Natur zeigt sich in Bildern von schlafenden Kuhherden\, moosbewachsener Rinde oder der Utopie von Pfauen und Pfirsichbäumen in den Wiener Parks.\nStorm Lily harmoniert wie die Musterungen einer Blume und schmeckt wie Kaugummi aus den 80’s. Be prepared for a trip. \nEine Veranstaltung von Forum Kulturnetz Hernals in Kooperation mit echoraeume\, Blendwerk Film KG und Manuel Bader. Produktionsleitung: Matthias Schinnerl\, Kuratorin: Joana Karácsonyi \n
URL:https://www.strawanzerin.at/termin/knh-sonntagskind-27-storm-lily/
LOCATION:Kulturcafé Max\, Mariengasse 1\, Wien\, Hernals\, 1170\, Österreich
CATEGORIES:freie Spende,Kunst/Kultur,Musik,Wien
ATTACH;FMTTYPE=image/png:https://www.strawanzerin.at/wp-content/uploads/2022/08/sonntagskind27-quer.png
ORGANIZER;CN="KULTURNETZ%20HERNALS":MAILTO:info@shizzle-kultur.at
END:VEVENT
END:VCALENDAR