BEGIN:VCALENDAR
VERSION:2.0
PRODID:-//STRAWANZERIN - ECPv4.9.5//NONSGML v1.0//EN
CALSCALE:GREGORIAN
METHOD:PUBLISH
X-WR-CALNAME:STRAWANZERIN
X-ORIGINAL-URL:https://www.strawanzerin.at
X-WR-CALDESC:Veranstaltungen im STRAWANZERIN
BEGIN:VTIMEZONE
TZID:"Europe/Vienna"
BEGIN:DAYLIGHT
TZOFFSETFROM:+0100
TZOFFSETTO:+0200
TZNAME:CEST
DTSTART:20180325T010000
END:DAYLIGHT
BEGIN:STANDARD
TZOFFSETFROM:+0200
TZOFFSETTO:+0100
TZNAME:CET
DTSTART:20181028T010000
END:STANDARD
END:VTIMEZONE
BEGIN:VEVENT
DTSTART;TZID="Europe/Vienna":20180623T120000
DTEND;TZID="Europe/Vienna":20180623T200000
DTSTAMP:20260422T081008
CREATED:20180611T112942Z
LAST-MODIFIED:20180618T091223Z
UID:56929-1529755200-1529784000@www.strawanzerin.at
SUMMARY:Kochen in der Hermanngasse mit Grundig Respect Food
DESCRIPTION:Am 23. Juni wird im 7. Wiener Gemeindebezirk wieder um die Wette gekocht. Zum dritten Mal findet das Kochevent statt. Grundig freut sich bekanntgeben zu dürfen\, dass Kochen in der Hermanngasse in diesem Jahr unter dem Motto Respect Food steht.  \nZehn Teams treten am 23. Juni 2018 gegeneinander an und kochen ganz groß auf. Die Besucher haben mit einem Verkostungs-Pass die Möglichkeit sich von Kochinsel zu Kochinsel zu bewegen\, alle Gerichte zu verkosten und bewerten. Die Wettbewerbsjury zählt dann die Punkte zusammen und prämiert das Siegerteam. Die Siegerehrung findet am Ende des Tages – um 18.30 Uhr – statt. Damit faire Bedingungen herrschen\, werden alle Wettstreiter mit den gleichen Zutaten ausgestattet. Gekocht wird ausschließlich vegetarisch. Beilagen wie Couscous oder Reis können von den Teams selbst mitgebracht werden. Und Kochen in der Hermanngasse steht dieses Jahr ganz im Zeichen von Grundig Respect Food. \nGrundig Respect Food und Kochen in der Hermanngasse – eine perfekte Verbindung\n„Respect Food“ heißt Nahrung nicht als etwas Selbstverständliches hinzunehmen\, sondern Essen mit Respekt zu begegnen. Das wird auch bei Kochen in der Hermanngasse seit Jahren gelebt.  \n„´Respect Food´ ist mir persönlich ein sehr großes Herzensanliegen. Daher freuen wir uns sehr\, dass wir heuer bei Kochen in der Hermanngasse mit dabei sind. Denn auch hier steht Nachhaltigkeit an oberster Stelle. Gemeinsam können wir der Initiative so zu mehr Bekanntheit verhelfen und so mehr Menschen davon überzeugen\, mit Lebensmitteln sorgsam umzugehen“\, so Philipp Breitenecker\, Head of Marketing bei Grundig / Elektra Bregenz AG. \n„Als wir – das Team von Kochen in der Hermanngasse – von der Respect Food-Initiative von Grundig erfahren haben\, waren wir sofort total begeistert – auch weil es so gut zu uns passt. Denn auch wir leben den bewussten Umgang mit Essen. Wir unterstützen diese Initiative von Herzen“\, so Thomas Kreuz\, Initiator von Kochen in der Hermanngassse und Inhaber von WauWau Pfeffermühlen. \nRespect Food – die No Waste-Initiative von Grundig\nEssen verschwenden heißt Leben verschwenden – unter diesem Motto hat Grundig im Jahr 2016 seine „Respect Food“-Initiative gestartet. Seither tritt das Unternehmen dafür ein\, das Bewusstsein für globale Lebensmittelverschwendung zu schärfen\, um weniger Nahrungsmittel weg zu werfen – und so mehr Menschen satt zu bekommen. Grundig verbessert – ganz im Sinne seiner „Respect Food“-Philosophie – ständig seine Produkte. Das Ergebnis sind nachhaltige Produktinnovationen und Haushaltsgeräte\, die dazu beitragen\, dass Lebensmittel länger frisch bleiben und gleichzeitig weniger Energie verbraucht wird. Neben diesen Verbesserungen unterstützt Grundig Projekte und Initiativen\, die darauf abzielen\, den Lebensmittelmüll zu reduzieren und so eine bessere Zukunft für alle Menschen sicherzustellen.  \n
URL:https://www.strawanzerin.at/termin/kochen-in-der-hermanngasse-mit-grundig-respect-food/
LOCATION:Hermanngasse\, Hermanngasse/Ecke Westbahnstraße\, Wien\, Wien\, 1070\, Österreich
CATEGORIES:Essen/Vokü
ATTACH;FMTTYPE=image/jpeg:https://www.strawanzerin.at/wp-content/uploads/2018/06/GR_Respect-Food_Herz.jpg
ORGANIZER;CN="Kochen%20in%20der%20Hermanngasse":MAILTO:alexandra.vasak@reiterpr.com
GEO:48.2017935;16.346972
X-APPLE-STRUCTURED-LOCATION;VALUE=URI;X-ADDRESS=Hermanngasse Hermanngasse/Ecke Westbahnstraße Wien Wien 1070 Österreich;X-APPLE-RADIUS=500;X-TITLE=Hermanngasse/Ecke Westbahnstraße:geo:16.346972,48.2017935
END:VEVENT
END:VCALENDAR