BEGIN:VCALENDAR
VERSION:2.0
PRODID:-//STRAWANZERIN - ECPv4.9.5//NONSGML v1.0//EN
CALSCALE:GREGORIAN
METHOD:PUBLISH
X-WR-CALNAME:STRAWANZERIN
X-ORIGINAL-URL:https://www.strawanzerin.at
X-WR-CALDESC:Veranstaltungen im STRAWANZERIN
BEGIN:VTIMEZONE
TZID:"Europe/Paris"
BEGIN:DAYLIGHT
TZOFFSETFROM:+0100
TZOFFSETTO:+0200
TZNAME:CEST
DTSTART:20150329T010000
END:DAYLIGHT
BEGIN:STANDARD
TZOFFSETFROM:+0200
TZOFFSETTO:+0100
TZNAME:CET
DTSTART:20151025T010000
END:STANDARD
END:VTIMEZONE
BEGIN:VEVENT
DTSTART;TZID="Europe/Paris":20150420T150000
DTEND;TZID="Europe/Paris":20150420T150000
DTSTAMP:20260421T190931
CREATED:20150420T132552Z
LAST-MODIFIED:20150420T133916Z
UID:14112-1429542000-1429542000@www.strawanzerin.at
SUMMARY:Königreich der Schatten
DESCRIPTION:Literaturforum Leselampe \nFoto: Lukas Beck \nKönigreich der Schatten  \nMichael Stavarič stammt aus Brno und ist freier Schriftsteller\, Übersetzer\, Kolumnist und Kritiker. In seinem letzten Roman\, Königreich der Schatten (2013)\,  erzählt er  detailreich und mit schwarzem Humor vom Geschäft des Tötens\, von Kindheitsliebe und einer unheilvollen Zeit. Und so kommt es\, dass in Leipzig Gegenwart und Vergangenheit sich berühren und zwei Menschen erkennen\, dass sie mehr verbindet als nur ihr Handwerk. Lesung und Gespräch finden am 20. Mai um 19.30  Uhr in der Edmundsburg statt. Eintritt frei. \nwww.literaturhaus-salzburg.at\nKontakt: 0662 / 422 781 \n
URL:https://www.strawanzerin.at/termin/koenigreich-der-schatten/
LOCATION:Österreich
CATEGORIES:Literatur,Salzburg
ATTACH;FMTTYPE=image/jpeg:https://www.strawanzerin.at/wp-content/uploads/2015/04/POR6_StavaricMichael_08color_cLukasBeck.jpg
END:VEVENT
END:VCALENDAR