BEGIN:VCALENDAR
VERSION:2.0
PRODID:-//STRAWANZERIN - ECPv4.9.5//NONSGML v1.0//EN
CALSCALE:GREGORIAN
METHOD:PUBLISH
X-WR-CALNAME:STRAWANZERIN
X-ORIGINAL-URL:https://www.strawanzerin.at
X-WR-CALDESC:Veranstaltungen im STRAWANZERIN
BEGIN:VTIMEZONE
TZID:"Europe/Vienna"
BEGIN:DAYLIGHT
TZOFFSETFROM:+0100
TZOFFSETTO:+0200
TZNAME:CEST
DTSTART:20210328T010000
END:DAYLIGHT
BEGIN:STANDARD
TZOFFSETFROM:+0200
TZOFFSETTO:+0100
TZNAME:CET
DTSTART:20211031T010000
END:STANDARD
END:VTIMEZONE
BEGIN:VEVENT
DTSTART;TZID="Europe/Vienna":20210527T193000
DTEND;TZID="Europe/Vienna":20210527T210000
DTSTAMP:20260420T224234
CREATED:20210526T091223Z
LAST-MODIFIED:20210526T091223Z
UID:77165-1622143800-1622149200@www.strawanzerin.at
SUMMARY:kollektiv kunststoff: MeinAllesaufderWelt
DESCRIPTION:Spielraum Identität.\nGeschichte. Innerer Zustand.\nAufschreien und verstummen. Auskotzen.\nAlles. Im Hier und Jetzt.\nDinge beginnen und enden. Kriechen\, schwärmen aus\, quellen heraus.\nVerderben. \nDas kollektiv kunststoff begibt sich in „MeinAllesaufderWelt“ auf die Suche nach dem Ort\, der sich nicht an einem konkret ortbaren Punkt befindet\, sondern sich mit der Seinsweise jeder_s Einzelnen befasst. In Anlehnung an Texte von Ingeborg Bachmann gepaart mit eigenen individuellen Gedanken setzt sich die Performance mit den Themen Grenzen und Schweigen auseinander. Angetrieben von der Auseinandersetzung mit der Gegenwart und Vergangenheit\, der Verdrängung und der Nichtverarbeitung gehen die Performer_innen auf künstlerischer Ebene Wünschen\, Sehnsüchten und Perspektivenlosigkeiten auf den Grund\, mit der Absicht den Rahmen des Möglichen zu brechen.\nDer ersehnte Ort kann nur gefunden werden\, indem man Grenzen überschreitet. \nDer wahre Schauplatz ist „das Innen von Menschen“ (Ingeborg Bachmann) \n
URL:https://www.strawanzerin.at/termin/kollektiv-kunststoff-meinallesaufderwelt/2021-05-27/
LOCATION:WUK\, Währingerstraße 59\, Wien\, Wien\, 1090\, Österreich
CATEGORIES:ab 7,Tanz,Theater/Kabarett,Wien
ATTACH;FMTTYPE=image/jpeg:https://www.strawanzerin.at/wp-content/uploads/2021/05/Pressefoto_MeinAllesaufderWelt-scaled.jpg
ORGANIZER;CN="WUK%20performing%20arts":MAILTO:performingarts@wuk.at
GEO:48.2232818;16.3514158
X-APPLE-STRUCTURED-LOCATION;VALUE=URI;X-ADDRESS=WUK Währingerstraße 59 Wien Wien 1090 Österreich;X-APPLE-RADIUS=500;X-TITLE=Währingerstraße 59:geo:16.3514158,48.2232818
END:VEVENT
END:VCALENDAR