BEGIN:VCALENDAR
VERSION:2.0
PRODID:-//STRAWANZERIN - ECPv4.9.5//NONSGML v1.0//EN
CALSCALE:GREGORIAN
METHOD:PUBLISH
X-WR-CALNAME:STRAWANZERIN
X-ORIGINAL-URL:https://www.strawanzerin.at
X-WR-CALDESC:Veranstaltungen im STRAWANZERIN
BEGIN:VTIMEZONE
TZID:"Europe/Vienna"
BEGIN:DAYLIGHT
TZOFFSETFROM:+0100
TZOFFSETTO:+0200
TZNAME:CEST
DTSTART:20240331T010000
END:DAYLIGHT
BEGIN:STANDARD
TZOFFSETFROM:+0200
TZOFFSETTO:+0100
TZNAME:CET
DTSTART:20241027T010000
END:STANDARD
END:VTIMEZONE
BEGIN:VEVENT
DTSTART;TZID="Europe/Vienna":20241204T193000
DTEND;TZID="Europe/Vienna":20241220T210000
DTSTAMP:20260425T154408
CREATED:20241025T155916Z
LAST-MODIFIED:20241025T155916Z
UID:104266-1733340600-1734728400@www.strawanzerin.at
SUMMARY:Kommen Sie\, bleiben Sie! - Uraufführung / Eigenproduktion des Theater Nestroyhof Hamakom
DESCRIPTION:Ein theatrales Essay über Freiheit\, sinnvoll gelebte Zeit und\ndie letzte Runde \nAlles\, wovor wir uns fürchten\, geschieht bereits jetzt irgendwem.\n(Eva von Redecker) \nFreiheit – darauf können sich erstmal alle einigen. Oder? \nSchauen wir mal genauer nach und lassen wir sie in Sam’s Bar mal gegeneinander antreten\, die verschiedenen Freiheitsbegriffe:\nDrei Menschen sprechen\, jeder für sich alleine\, über ihre Vorstellungen von Freiheit. Einzelteile\, die am Ende zusammengeführt werden möchten. Doch das muss nicht heißen\, dass sie auch zu einer Symbiose kommen. Vielleicht sind nur zwei sich einig. Vielleicht zerstreiten sich auch alle ohne Aussicht auf Versöhnung. Können sie sich überhaupt einig werden? \nUnd dann schwebt da noch permanent die Frage nach der größten aller Unfreiheiten über jedem Versuch: die verrinnende Zeit. Kann ich frei sein\, wenn ich weiß\, dass meine Zeit begrenzt ist? Dass ich nicht für immer da bleiben kann\, wo ich sein will?\nDenn irgendwann geht das Licht aus\, das Mikrofon wird abgedreht. Bitte gehen – hoffentlich hast du die Zeit sinnvoll genutzt! Was nicht gesagt werden konnte\, bleibt ungehört\, was nicht gefragt wurde\, kann auch nicht beantwortet werden. \nDabei gibt es doch so viel zu besprechen: Was ist denn das jetzt genau mit dieser Freiheit\, um die sich alle streiten in Politik und Philosophie? Und wie sieht es morgen aus\, nächste Woche\, nächstes Jahr\, nach der nächsten Wahl? Was ermöglicht und was nimmt Freiheit? Was ist das mit der „Bewegungsfreiheit“ und was\, wenn ich mich gar nicht bewegen will?! Vielleicht will ich ja gar nicht weg\, sondern einfach bleiben. An einem selbst gewählten Ort\, an dem ich sicher bin und keine Vertreibung fürchten muss\, nicht durch Flut\, durch Gewalt\, oder Hunger. Die Fragen zu Freiheit scheinen sich zuzuspitzen auf Fragen zu Demokratie und ihrem Zustand – aber die Zeit drängt! \nSieht so aus\, als könnten wir im Kampf gegen die Zeit nur verlieren – es sei denn?\nEs sei denn wir bleiben zusammen\, es lässt sich doch noch so etwas wie eine Gemeinschaft ausmachen. Es sei denn\, das Publikum möchte noch bleiben. \nEs sei denn\, wir nehmen noch ein Glas. Es sei denn\, die Zugabe dauert noch an und an und an?\nIn drei Soli verhandelt das Ensemble meine und deine Freiheit\, wägt ab\, verwirft\, schmiedet Pläne für eine Parteigründung und eine Marsbesiedelung\, schmeißt eine Runde für alle\, Dias an die Wand und die Frage in den Raum\, was wir anstellen mit der gemeinsamen\, fortgeschrittenen Zeit.\nHerzlich willkommen in einer Arena der Freiheit! Kommen Sie\, bleiben Sie! \nPremiere: 4. Dezember 2024\, 19.30 Uhr\nWeitere Spieltermine: 6.\, 11.\, 13.\, 15.\, 18.\, 19. & 20. Dezember 2024\njeweils um 19.30 Uhr \nREGIE\nGesa Bering \nTEXT\nGesa Bering & Ensemble \nDRAMATURGIE\nMichael Ilsenberg \nAUSSTATTUNG\nMira König \nMUSIK\nJohannes Wakolbinger \nMIT\nStephan Dorn\nSophie Kirsch\nEla zum Winkel \nREGIEASSISTENZ\nKatalin Pàszti \nREGIEHOSPITANZ\nRuggero Mannucci \n
URL:https://www.strawanzerin.at/termin/kommen-sie-bleiben-sie-urauffuehrung-eigenproduktion-des-theater-nestroyhof-hamakom/
LOCATION:Theater Nestroyhof / Hamakom\, Nestroypl. 1\, Wien\, Wien\, 1020\, Österreich
CATEGORIES:Theater/Kabarett
ATTACH;FMTTYPE=image/png:https://www.strawanzerin.at/wp-content/uploads/2024/10/KommenSie-fb-.png
END:VEVENT
END:VCALENDAR