BEGIN:VCALENDAR
VERSION:2.0
PRODID:-//STRAWANZERIN - ECPv4.9.5//NONSGML v1.0//EN
CALSCALE:GREGORIAN
METHOD:PUBLISH
X-WR-CALNAME:STRAWANZERIN
X-ORIGINAL-URL:https://www.strawanzerin.at
X-WR-CALDESC:Veranstaltungen im STRAWANZERIN
BEGIN:VTIMEZONE
TZID:"Europe/Vienna"
BEGIN:DAYLIGHT
TZOFFSETFROM:+0100
TZOFFSETTO:+0200
TZNAME:CEST
DTSTART:20220327T010000
END:DAYLIGHT
BEGIN:STANDARD
TZOFFSETFROM:+0200
TZOFFSETTO:+0100
TZNAME:CET
DTSTART:20221030T010000
END:STANDARD
END:VTIMEZONE
BEGIN:VEVENT
DTSTART;TZID="Europe/Vienna":20220129T200000
DTEND;TZID="Europe/Vienna":20220129T214500
DTSTAMP:20260420T175026
CREATED:20220113T151028Z
LAST-MODIFIED:20220202T122013Z
UID:82334-1643486400-1643492700@www.strawanzerin.at
SUMMARY:Komödie am Kai holt «Golden Girls» auf die Bühne
DESCRIPTION:So treffend und witzig ist die Altersgruppe 50plus zuvor noch nie porträtiert worden: In der Theaterfassung der Kult-Comedy-Fernsehserie spielen Edith Leyrer\, Ulli Fessl\, Irene Budischowsky und Margot Ganser-Skofic das legendäre Damenquartett. Publikumsliebling und Regisseur Christian Spatzek ist ebenfalls mit von der Partie\, wenn sich die vier Frauen in den besten Jahren zu einer Wohngemeinschaft voller Humor und Lebensfreude zusammenfinden. \nVorstellungen:\n29. Jänner bis 19. März 2022\, DI bis SA um 20 Uhr \nInfo:\nTel. 01 533 24 34 \nFoto/© Komödie am Kai \n
URL:https://www.strawanzerin.at/termin/komoedie-am-kai-holt-golden-girls-auf-die-buehne-2/2022-01-29/
LOCATION:Komödie am Kai\, Franz-Josefs-Kai 29\, Wien\, Wien\, 1010\, Österreich
CATEGORIES:ab 7,Theater/Kabarett,Wien
ATTACH;FMTTYPE=image/jpeg:https://www.strawanzerin.at/wp-content/uploads/2022/01/goldengirls1-Kopie.jpg
GEO:48.2121522;16.3749182
X-APPLE-STRUCTURED-LOCATION;VALUE=URI;X-ADDRESS=Komödie am Kai Franz-Josefs-Kai 29 Wien Wien 1010 Österreich;X-APPLE-RADIUS=500;X-TITLE=Franz-Josefs-Kai 29:geo:16.3749182,48.2121522
END:VEVENT
END:VCALENDAR