BEGIN:VCALENDAR
VERSION:2.0
PRODID:-//STRAWANZERIN - ECPv4.9.5//NONSGML v1.0//EN
CALSCALE:GREGORIAN
METHOD:PUBLISH
X-WR-CALNAME:STRAWANZERIN
X-ORIGINAL-URL:https://www.strawanzerin.at
X-WR-CALDESC:Veranstaltungen im STRAWANZERIN
BEGIN:VTIMEZONE
TZID:"Europe/Vienna"
BEGIN:DAYLIGHT
TZOFFSETFROM:+0100
TZOFFSETTO:+0200
TZNAME:CEST
DTSTART:20170326T010000
END:DAYLIGHT
BEGIN:STANDARD
TZOFFSETFROM:+0200
TZOFFSETTO:+0100
TZNAME:CET
DTSTART:20171029T010000
END:STANDARD
END:VTIMEZONE
BEGIN:VEVENT
DTSTART;TZID="Europe/Vienna":20171011T190000
DTEND;TZID="Europe/Vienna":20171011T210000
DTSTAMP:20260420T133230
CREATED:20170918T080241Z
LAST-MODIFIED:20170918T080241Z
UID:46883-1507748400-1507755600@www.strawanzerin.at
SUMMARY:Kongo: Jugend im Widerstand / Congo: Youth in resistance
DESCRIPTION:– – – – – – – ENGLISH VERSION BELOW – – – – – – – – – – – – – \nPODIUM\nGrace Kabera Ndumwisu\, Akivistin von La Lucha\, Goma\nBénédicte Kumbi Ndjoko\, Lehrerin und Autorin\, Genf\nPierre Jacquemot\, Wirtschaftswissenschafter\, Botschafter\, Paris \nModeration: Marie-Roger Biloa\, Journalistin\, Paris\nMusik: Prince Zeka\nBegrüßung: Franz Schmidjell\, VIDC \nVeranstaltungssprachen: Französisch und Deutsch mit Simultandolmetschung  \nAnmeldung: schmidjell@vidc.org \nHINTERGRUND \nÖsterreichs Medien und Politik reduzieren Afrika auf das Migrationsthema. Ökonomische Perspektivenlosigkeit\, politische Repression und wiederkehrende Konflikte zwingen die Menschen aber nicht nur zur Flucht\, sondern führen auch zur Entstehung von Protestbewegungen\, die vor Ort für Veränderungen kämpfen. \nEin Beispiel bietet die Demokratische Republik Kongo. Jugendbewegungen kämpfen abseits der bisherigen Parteienlandschaft mit friedlichen Mitteln für Menschenrechte und Demokratie – für einen neuen Kongo ohne den jetzigen Präsidenten. Joseph Kabila ist seit 2001 an der Macht ist und dürfte gemäß der Verfassung bei den auf April 2018 verschobenen Wahlen nicht mehr kandidieren. \nDer Kongo hat laut Weltbank mit 80 Millionen Hektar landwirtschaftlich nutzbarer Böden und aufgrund 1100 identifizierter Mineralien und Edelmetalle das Potential\, eines der reichsten Länder Afrika zu werden. Im Index für menschliche Entwicklung liegt der Kongo allerdings nur auf Rang 176 von 188 Ländern. \nWelche Chance hat ein friedlicher Widerstand gegen Kabila? Inwieweit sind die sozialen Bewegungen Teil einer transnationalen oder „pan-afrikanischen“ Bewegung? Wie reagiert die internationale Staatengemeinschaft auf die politischen Entwicklungen im Kongo? \nCopyright Veranstaltungsfoto: © La Lucha \n– – – – – – – – – ENGLISH VERSION – – – – – – – – – – – – –  \nPANEL \nGrace Kabera Ndumwisu\, activist\, La Lucha\, Goma\nBénédicte Kumbi Ndjoko\, teacher and author\, Geneva\nPierre Jacquemot\, researcher\, former Ambassador\, Paris \nChair: Marie-Roger Biloa\, journalist\, Paris\nMusic: Prince Zeka\nWelcome: Franz Schmidjell\, VIDC \nLanguages: French and German with simultaneous interpretation \nRegistration: schmidjell@vidc.org \nBACKGROUND\nRegrettably\, this information is only available in German.  \nCopyright event photo: © La Lucha \n
URL:https://www.strawanzerin.at/termin/kongo-jugend-im-widerstand-congo-youth-in-resistance/
CATEGORIES:Deutsch,Französisch,Gratis,Soziale Kämpfe,Vortrag/Symposium,Wien
ATTACH;FMTTYPE=image/png:https://www.strawanzerin.at/wp-content/uploads/2017/09/Lis-2.png
ORGANIZER;CN="VIDC":MAILTO: office@vidc.org
END:VEVENT
END:VCALENDAR