BEGIN:VCALENDAR
VERSION:2.0
PRODID:-//STRAWANZERIN - ECPv4.9.5//NONSGML v1.0//EN
CALSCALE:GREGORIAN
METHOD:PUBLISH
X-WR-CALNAME:STRAWANZERIN
X-ORIGINAL-URL:https://www.strawanzerin.at
X-WR-CALDESC:Veranstaltungen im STRAWANZERIN
BEGIN:VTIMEZONE
TZID:"Europe/Vienna"
BEGIN:DAYLIGHT
TZOFFSETFROM:+0100
TZOFFSETTO:+0200
TZNAME:CEST
DTSTART:20220327T010000
END:DAYLIGHT
BEGIN:STANDARD
TZOFFSETFROM:+0200
TZOFFSETTO:+0100
TZNAME:CET
DTSTART:20221030T010000
END:STANDARD
END:VTIMEZONE
BEGIN:VEVENT
DTSTART;TZID="Europe/Vienna":20220131T200000
DTEND;TZID="Europe/Vienna":20220131T213000
DTSTAMP:20260421T020324
CREATED:20211115T163113Z
LAST-MODIFIED:20211116T130653Z
UID:81791-1643659200-1643664600@www.strawanzerin.at
SUMMARY:Konrad Bayer- Chansons und kosmisches Geknalle
DESCRIPTION:Ein Konzert und eine Hommage an Konrad Bayers Sprachkunst und Stil. Das Melancholische\, Fan-tastische aber auch Humorvolle und Rauschhafte seiner Texte wird zelebriert und die Schwerkraft möge sich aufheben. \nMit:\nJohanna Orsini-Rosenberg   Stimme\nPaul Skrepek   Kontragitarre Stimme Musik\nMarie Orsini-Rosenberg   Cello\nEmily Stewart   Violine\nAngela Christlieb   Video \n
URL:https://www.strawanzerin.at/termin/konrad-bayer-chansons-und-kosmisches-geknalle/
LOCATION:TAG – Theater an der Gumpendorfer Straße\, Gumpendorfer Straße 67\, Wien\, Wien\, 1060\, Österreich
CATEGORIES:ab 7
ATTACH;FMTTYPE=image/jpeg:https://www.strawanzerin.at/wp-content/uploads/2021/11/Konrad_Bayer_Chansons_03_Michael_Pleesz_Quer_web.jpg
ORGANIZER;CN="TAG%20-%20Theater%20an%20der%20Gumpendorfer%20Stra%C3%9Fe":MAILTO:karten@dastag.at
GEO:48.1954875;16.3512933
X-APPLE-STRUCTURED-LOCATION;VALUE=URI;X-ADDRESS=TAG – Theater an der Gumpendorfer Straße Gumpendorfer Straße 67 Wien Wien 1060 Österreich;X-APPLE-RADIUS=500;X-TITLE=Gumpendorfer Straße 67:geo:16.3512933,48.1954875
END:VEVENT
END:VCALENDAR