BEGIN:VCALENDAR
VERSION:2.0
PRODID:-//STRAWANZERIN - ECPv4.9.5//NONSGML v1.0//EN
CALSCALE:GREGORIAN
METHOD:PUBLISH
X-WR-CALNAME:STRAWANZERIN
X-ORIGINAL-URL:https://www.strawanzerin.at
X-WR-CALDESC:Veranstaltungen im STRAWANZERIN
BEGIN:VTIMEZONE
TZID:"Europe/Vienna"
BEGIN:DAYLIGHT
TZOFFSETFROM:+0100
TZOFFSETTO:+0200
TZNAME:CEST
DTSTART:20210328T010000
END:DAYLIGHT
BEGIN:STANDARD
TZOFFSETFROM:+0200
TZOFFSETTO:+0100
TZNAME:CET
DTSTART:20211031T010000
END:STANDARD
END:VTIMEZONE
BEGIN:VEVENT
DTSTART;TZID="Europe/Vienna":20211008T193000
DTEND;TZID="Europe/Vienna":20211008T210000
DTSTAMP:20260421T014115
CREATED:20210908T132704Z
LAST-MODIFIED:20210908T132704Z
UID:80088-1633721400-1633726800@www.strawanzerin.at
SUMMARY:Konsum. Ein Musical
DESCRIPTION:Uraufführung \n– Eine Koproduktion von WERK X und Flying Opera \nInszenierung: Bernd Liepold-Mosser\nBühne & Kostüm: Karla Fehlenberg\nMusik: Clara Luzia\, Catharina Priemer-Humpel\, Boris Fiala\nDramaturgie: Hannah Lioba Egenolf\nRegieassistenz: Clara Obkircher\nMit: Zeynep Buyraç\, Annette Isabella Holzmann\, Martin Hemmer\, Oliver Huether\, Clara Luzia\, Catharina Priemer-Humpel\nKapitalismusmaschine oder Freiheit? Gier oder Selbstverwirklichung? Freude oder Ersatzbefriedigung? Wir leben in einer Welt der Waren. Ob nun über die digitalen Kanäle oder in den Shopping-Malls\, ohne Konsum ist unser Leben kaum mehr zu denken. Doch brauchen wir all diese Waren wirklich? Oder werden wir als Konsument*innen gebraucht\, um die Wirtschaft in Gang zu halten? Längst ist die Zirkulation von Waren ein weltumspannendes System\, in dem es Gewinner und Verlierer gibt. Man denke an ein durchschnittliches Billig-T-Shirt: in Indien wird die Baumwolle angebaut und geerntet\, in der Türkei wird sie versponnen\, in Taiwan werden die Stoffe gewebt\, in Polen gefärbt\, und in Bangladesch werden die Einzelteile zusammengenäht\, bis das T-Shirt in Österreich verkauft wird\, von wo es über eine Textilsammelstelle als Spende nach Afrika geht\, wo es wiederum auf dem Schwarzmarkt landet. \nFür das Projekt „Konsum“ wurde die Gattung des Recycling-Musicals erfunden: der Text erzählt von traurigen Menschen\, die sich durch den Konsum eine bisschen Glück versprechen\, von globalen Ausbeutungsverhältnissen\, deren Unmenschlichkeit zum Himmel schreit\, von Produktionsbedingungen\, die die Welt in eine ökosoziale Katastrophe treiben\, von Entfremdung\, die durch das Konsumverhalten nur noch weiter vertieft wird\, aber auch von den Freuden des Kaufens\, von der Liebe zu den Objekten\, von der Ästhetik der Dinge – radikal politisch und rücksichtslos unterhaltsam handelt das Musical von den Ambivalenzen unserer spätkapitalistischen Welt.\nThematisch passende Songs aus dem Repertoire von Rock und Pop werden für das Musical musikalisch neu arrangiert und thematisch verarbeitet und eingebunden. \n
URL:https://www.strawanzerin.at/termin/konsum-ein-musical/2021-10-08/
LOCATION:WERK X\, Oswaldgasse 35A\, Wien\, Wien\, 1120\, Österreich
CATEGORIES:Kunst/Kultur,Musik,Theater/Kabarett,Wien
ATTACH;FMTTYPE=image/jpeg:https://www.strawanzerin.at/wp-content/uploads/2021/09/Konsum-1170176-Alex-Gotter.jpg
ORGANIZER;CN="WERK%20X":MAILTO:buero@werk-x.at
GEO:48.1662859;16.3245824
X-APPLE-STRUCTURED-LOCATION;VALUE=URI;X-ADDRESS=WERK X Oswaldgasse 35A Wien Wien 1120 Österreich;X-APPLE-RADIUS=500;X-TITLE=Oswaldgasse 35A:geo:16.3245824,48.1662859
END:VEVENT
END:VCALENDAR