BEGIN:VCALENDAR
VERSION:2.0
PRODID:-//STRAWANZERIN - ECPv4.9.5//NONSGML v1.0//EN
CALSCALE:GREGORIAN
METHOD:PUBLISH
X-WR-CALNAME:STRAWANZERIN
X-ORIGINAL-URL:https://www.strawanzerin.at
X-WR-CALDESC:Veranstaltungen im STRAWANZERIN
BEGIN:VTIMEZONE
TZID:"Europe/Helsinki"
BEGIN:DAYLIGHT
TZOFFSETFROM:+0200
TZOFFSETTO:+0300
TZNAME:EEST
DTSTART:20140330T010000
END:DAYLIGHT
BEGIN:STANDARD
TZOFFSETFROM:+0300
TZOFFSETTO:+0200
TZNAME:EET
DTSTART:20141026T010000
END:STANDARD
END:VTIMEZONE
BEGIN:VEVENT
DTSTART;TZID="Europe/Helsinki":20140725T203000
DTEND;TZID="Europe/Helsinki":20140725T230000
DTSTAMP:20260420T065930
CREATED:20140706T200003Z
LAST-MODIFIED:20140707T080824Z
UID:3857-1406320200-1406329200@www.strawanzerin.at
SUMMARY:Kowalski im WUK Platzkonzert
DESCRIPTION:Die Wiener Band startete unter dem Namen Seltsam. Die Musiker um Alexander Sauer sind nun als Kowalski wieder zurück und erstmals bei den Platzkonzerten dabei. Eingeschenkt wird eine Cuvée aus u.a. Muse und André Heller\, serviert mit gewohnter Energie und altbekannten Songs als Gebäck. Viel Spaß und Ohren spitzen! \n
URL:https://www.strawanzerin.at/termin/kowalski-im-wuk-platzkonzert/
LOCATION:WUK\, Währingerstraße 59\, Wien\, Wien\, 1090\, Österreich
CATEGORIES:Deutsch,Gratis,Kunst/Kultur,Musik,Wien
ORGANIZER;CN="CHANGEOVER":MAILTO:office@changeover-online.net
GEO:48.2232818;16.3514158
X-APPLE-STRUCTURED-LOCATION;VALUE=URI;X-ADDRESS=WUK Währingerstraße 59 Wien Wien 1090 Österreich;X-APPLE-RADIUS=500;X-TITLE=Währingerstraße 59:geo:16.3514158,48.2232818
END:VEVENT
END:VCALENDAR