BEGIN:VCALENDAR
VERSION:2.0
PRODID:-//STRAWANZERIN - ECPv4.9.5//NONSGML v1.0//EN
CALSCALE:GREGORIAN
METHOD:PUBLISH
X-WR-CALNAME:STRAWANZERIN
X-ORIGINAL-URL:https://www.strawanzerin.at
X-WR-CALDESC:Veranstaltungen im STRAWANZERIN
BEGIN:VTIMEZONE
TZID:"Europe/Vienna"
BEGIN:DAYLIGHT
TZOFFSETFROM:+0100
TZOFFSETTO:+0200
TZNAME:CEST
DTSTART:20240331T010000
END:DAYLIGHT
BEGIN:STANDARD
TZOFFSETFROM:+0200
TZOFFSETTO:+0100
TZNAME:CET
DTSTART:20241027T010000
END:STANDARD
END:VTIMEZONE
BEGIN:VEVENT
DTSTART;TZID="Europe/Vienna":20241109T140000
DTEND;TZID="Europe/Vienna":20241109T210000
DTSTAMP:20260426T032418
CREATED:20241011T161435Z
LAST-MODIFIED:20241011T161435Z
UID:104010-1731160800-1731186000@www.strawanzerin.at
SUMMARY:KQWM Open Studio Day 2024
DESCRIPTION:Das KunstQuartier Wien Meidling öffnet am 9. November seine Türen und bietet ein breites Programm. Neben den ca. 35 geöffneten Ateliers\, findet auch ein Puppentheater für Kinder statt\, werden gemeinsam Puppen aus Recyclingmaterialien gebaut\, finden Performances und ein Fotoshooting statt und wird der Film „Haus am Gehen“ zum ersten Mal einer Öffentlichkeit präsentiert. Außerdem bauen Gastkünstler:innen kleine Ausstellungen mit ihrem Arbeiten im Haus verteilt auf. Von 14-21 Uhr freuen wir uns darauf\, viele kunstinteressierte Menschen bei uns begrüßen zu dürfen. Das Café Kosmos zeigt darüber hinaus ausgewählte Arbeiten von Künstler:innen aus dem KQWM. \nDas ganze Programm auf: kqwm.org/openstudiodays2024 \n
URL:https://www.strawanzerin.at/termin/kqwm-open-studio-day-2024/
LOCATION:KunstQuartier Wien Meidling\, Aichholzgasse 51-53\, Wien\, 1120\, Österreich
CATEGORIES:Ausstellung,Film,Kinderkultur,Kunst/Kultur,Musik,Rundgang,Theater/Kabarett
ATTACH;FMTTYPE=image/jpeg:https://www.strawanzerin.at/wp-content/uploads/2024/10/newsletter_sujet.jpg
END:VEVENT
END:VCALENDAR