BEGIN:VCALENDAR
VERSION:2.0
PRODID:-//STRAWANZERIN - ECPv4.9.5//NONSGML v1.0//EN
CALSCALE:GREGORIAN
METHOD:PUBLISH
X-WR-CALNAME:STRAWANZERIN
X-ORIGINAL-URL:https://www.strawanzerin.at
X-WR-CALDESC:Veranstaltungen im STRAWANZERIN
BEGIN:VTIMEZONE
TZID:"Europe/Vienna"
BEGIN:DAYLIGHT
TZOFFSETFROM:+0100
TZOFFSETTO:+0200
TZNAME:CEST
DTSTART:20230326T010000
END:DAYLIGHT
BEGIN:STANDARD
TZOFFSETFROM:+0200
TZOFFSETTO:+0100
TZNAME:CET
DTSTART:20231029T010000
END:STANDARD
END:VTIMEZONE
BEGIN:VEVENT
DTSTART;TZID="Europe/Vienna":20231209T180000
DTEND;TZID="Europe/Vienna":20231209T220000
DTSTAMP:20260420T180617
CREATED:20231024T150638Z
LAST-MODIFIED:20231024T150638Z
UID:94941-1702144800-1702159200@www.strawanzerin.at
SUMMARY:Krampuslauf samt Nikolo
DESCRIPTION:Krampuslauf im das Fridolin im Frunpark Asten \nAm 9.12.2023 um 18 Uhr findet der Krampuslauf für Klein und Groß statt. \nWir haben 2 Krampus Gruppen am Start: \n– Astner Seeteufeln\n– Rauh Woid Teifln \nNikolaus mit Nikolo/Krampussackerl für jedes Kind (solange der Vorrat reicht) \nSpecials: \n– Bratwürstl mit Sauerkraut\n– Frische Bauernkrapfen\n– Punschhütte ab 12 Uhr geöffnet \nDas gesamte Fridolin Team freut sich schon auf Euren besuch. \n
URL:https://www.strawanzerin.at/termin/krampuslauf-samt-nikolo/
LOCATION:Frunpark Asten\, Handelsring 8-10\, Asten\, Oberösterreich\, 4481\, Österreich
CATEGORIES:Gratis,Oberösterreich
ATTACH;FMTTYPE=image/png:https://www.strawanzerin.at/wp-content/uploads/2023/10/Krampus-Facebook-Event-Titelbild.png
ORGANIZER;CN="Twins%20GmbH%20-%20Das%20Fridolin":MAILTO:office@dasfridolin.at
END:VEVENT
END:VCALENDAR