BEGIN:VCALENDAR
VERSION:2.0
PRODID:-//STRAWANZERIN - ECPv4.9.5//NONSGML v1.0//EN
CALSCALE:GREGORIAN
METHOD:PUBLISH
X-WR-CALNAME:STRAWANZERIN
X-ORIGINAL-URL:https://www.strawanzerin.at
X-WR-CALDESC:Veranstaltungen im STRAWANZERIN
BEGIN:VTIMEZONE
TZID:"Europe/Vienna"
BEGIN:DAYLIGHT
TZOFFSETFROM:+0100
TZOFFSETTO:+0200
TZNAME:CEST
DTSTART:20230326T010000
END:DAYLIGHT
BEGIN:STANDARD
TZOFFSETFROM:+0200
TZOFFSETTO:+0100
TZNAME:CET
DTSTART:20231029T010000
END:STANDARD
END:VTIMEZONE
BEGIN:VEVENT
DTSTART;TZID="Europe/Vienna":20231013T150000
DTEND;TZID="Europe/Vienna":20231013T190000
DTSTAMP:20260423T193443
CREATED:20230929T131927Z
LAST-MODIFIED:20230929T131927Z
UID:94259-1697209200-1697223600@www.strawanzerin.at
SUMMARY:Kreativ-Workshop: Portrait of a lady
DESCRIPTION:Angeleitet von der Illustratorin Judith Bittermann in Kooperation mit dem Gewaltpräventionsprojekt „StoP – Stadtteile ohne Partnergewalt“.\nMittels der Collage-Technik werden die Teilnehmer*innen dabei begleitet eigene Bilder zu erstellen. Thematisch befassen wir uns mit den Gewaltgeschichten von berühmten oder uns bekannten Frauen. Unter anderem nutzen wir auch die Bücher „Heimat bist du toter Töchter“ von Yvonne Widler und „Und das soll Liebe sein?“ von Rosalind B. Penfold heranziehen.\nEs ist keine Vorerfahrung nötig\, alle die Freude am gemeinsamen Gestalten haben sind herzlich eingeladen vorbeizukommen! Materialien für die Collagen werden zur Verfügung gestellt.\nAufgrund begrenzter Teilnehmer*innenzahl bitten wir um Anmeldung inklusive der Angabe der gewünschten Termine unter: f.e.tehrani@stop-partnergewalt.at\nWeitere Informationen unter: https://stop-partnergewalt.at/2023/08/elementor-20646/ \n
URL:https://www.strawanzerin.at/termin/kreativ-workshop-portrait-of-a-lady-3/2023-10-13/
LOCATION:Gebietsbetreuung GB*10\, Quellenstraße 149\, Wien\, Wien\, 1100\, Österreich
CATEGORIES:Feminismus,Gratis,Wien,Workshop
ATTACH;FMTTYPE=image/png:https://www.strawanzerin.at/wp-content/uploads/2023/09/PoaL.png
ORGANIZER;CN="StoP%20-%20Stadtteile%20ohne%20Partnergewalt":MAILTO:office@stop-partnergewalt.at
GEO:48.1757375;16.3702648
X-APPLE-STRUCTURED-LOCATION;VALUE=URI;X-ADDRESS=Gebietsbetreuung GB*10 Quellenstraße 149 Wien Wien 1100 Österreich;X-APPLE-RADIUS=500;X-TITLE=Quellenstraße 149:geo:16.3702648,48.1757375
END:VEVENT
END:VCALENDAR