BEGIN:VCALENDAR
VERSION:2.0
PRODID:-//STRAWANZERIN - ECPv4.9.5//NONSGML v1.0//EN
CALSCALE:GREGORIAN
METHOD:PUBLISH
X-WR-CALNAME:STRAWANZERIN
X-ORIGINAL-URL:https://www.strawanzerin.at
X-WR-CALDESC:Veranstaltungen im STRAWANZERIN
BEGIN:VTIMEZONE
TZID:"Europe/Vienna"
BEGIN:DAYLIGHT
TZOFFSETFROM:+0100
TZOFFSETTO:+0200
TZNAME:CEST
DTSTART:20180325T010000
END:DAYLIGHT
BEGIN:STANDARD
TZOFFSETFROM:+0200
TZOFFSETTO:+0100
TZNAME:CET
DTSTART:20181028T010000
END:STANDARD
END:VTIMEZONE
BEGIN:VEVENT
DTSTART;TZID="Europe/Vienna":20181024T143000
DTEND;TZID="Europe/Vienna":20181024T163000
DTSTAMP:20260421T003653
CREATED:20181015T140131Z
LAST-MODIFIED:20181020T103227Z
UID:59923-1540391400-1540398600@www.strawanzerin.at
SUMMARY:Kreativworkshops
DESCRIPTION:Thema: Stoffdruck\nKartoffel-\,Sieb- oder Linoldruck kennenlernen.\nAnmeldung. UKB \nam 24.10.\,21.11.\,und 19.12. jeweils von 14.30-16.30 \n
URL:https://www.strawanzerin.at/termin/kreativworkshops-2/
LOCATION:Florianigasse 24\, 1080 Wien\, Florianigasse 24\, Wien\, 1080\, Österreich
CATEGORIES:Kategorie,Workshop
ORGANIZER;CN="Wiener%20Hilfswerk-%20Nachbarschaftszentrum%20Josefstadt":MAILTO:Nz8@wiener.hilfswerk.at
GEO:48.2118684;16.3502619
X-APPLE-STRUCTURED-LOCATION;VALUE=URI;X-ADDRESS=Florianigasse 24 1080 Wien Florianigasse 24 Wien 1080 Österreich;X-APPLE-RADIUS=500;X-TITLE=Florianigasse 24:geo:16.3502619,48.2118684
END:VEVENT
END:VCALENDAR