BEGIN:VCALENDAR
VERSION:2.0
PRODID:-//STRAWANZERIN - ECPv4.9.5//NONSGML v1.0//EN
CALSCALE:GREGORIAN
METHOD:PUBLISH
X-WR-CALNAME:STRAWANZERIN
X-ORIGINAL-URL:https://www.strawanzerin.at
X-WR-CALDESC:Veranstaltungen im STRAWANZERIN
BEGIN:VTIMEZONE
TZID:"Europe/Vienna"
BEGIN:DAYLIGHT
TZOFFSETFROM:+0100
TZOFFSETTO:+0200
TZNAME:CEST
DTSTART:20250330T010000
END:DAYLIGHT
BEGIN:STANDARD
TZOFFSETFROM:+0200
TZOFFSETTO:+0100
TZNAME:CET
DTSTART:20251026T010000
END:STANDARD
END:VTIMEZONE
BEGIN:VEVENT
DTSTART;VALUE=DATE:20251120
DTEND;VALUE=DATE:20251223
DTSTAMP:20260421T071111
CREATED:20251023T115038Z
LAST-MODIFIED:20251023T115038Z
UID:110560-1763611200-1766375999@www.strawanzerin.at
SUMMARY:Kremser Adventzauber
DESCRIPTION:Entlang der 700 Meter langen Fußgängerzone und in den romantischen Seitengassen erwartet die Besucher:innen eine traumhafte Weihnachtsbeleuchtung mit besonderen\, weihnachtlichen Fotopoints fürs Erinnerungsalbum. Neben den kleinen\, feinen Geschäften laden zahlreiche Weihnachtshütten zum stimmungsvollen Genuss in Form von selbstgemachtem Wachauer Glühwein\, Maroni und zarten Waffeln. Mit liebevoll hergestellten Handwerksprodukten präsentieren sich viele weitere Aussteller:innen. Auf den charmanten Plätzen der Kremser Innenstadt laden den ganzen Advent über Programmpunkte zum Verweilen ein (jeweils Do-So). \nGenießen Sie die einzigartige Wachauer Weihnachtsstimmung in der Kremser Altstadt und lassen Sie sich vom Kremser Adventzauber richtig verzaubern… \nWeitere Infos unter: www.krems.info/kremser-adventzauber \n
URL:https://www.strawanzerin.at/termin/kremser-adventzauber-4/
LOCATION:3500\, Kremser Innenstadt\, Kremser Innenstadt\, Krems an der Donau\, Niederösterreich\, 3500\, Österreich
ATTACH;FMTTYPE=image/jpeg:https://www.strawanzerin.at/wp-content/uploads/2025/10/Advent-mit-Copyright.jpg
ORGANIZER;CN="Stadtmarketing%20Krems%20GmbH":MAILTO:service@stadtmarketing-krems.at
END:VEVENT
END:VCALENDAR