BEGIN:VCALENDAR
VERSION:2.0
PRODID:-//STRAWANZERIN - ECPv4.9.5//NONSGML v1.0//EN
CALSCALE:GREGORIAN
METHOD:PUBLISH
X-WR-CALNAME:STRAWANZERIN
X-ORIGINAL-URL:https://www.strawanzerin.at
X-WR-CALDESC:Veranstaltungen im STRAWANZERIN
BEGIN:VTIMEZONE
TZID:"Europe/Vienna"
BEGIN:DAYLIGHT
TZOFFSETFROM:+0100
TZOFFSETTO:+0200
TZNAME:CEST
DTSTART:20260329T010000
END:DAYLIGHT
BEGIN:STANDARD
TZOFFSETFROM:+0200
TZOFFSETTO:+0100
TZNAME:CET
DTSTART:20261025T010000
END:STANDARD
END:VTIMEZONE
BEGIN:VEVENT
DTSTART;TZID="Europe/Vienna":20260220T110000
DTEND;TZID="Europe/Vienna":20260220T210000
DTSTAMP:20260421T090404
CREATED:20260205T091627Z
LAST-MODIFIED:20260205T091627Z
UID:112324-1771585200-1771621200@www.strawanzerin.at
SUMMARY:Krieg und die Schreie der Kinder
DESCRIPTION:Memorial \nSeit 2015 erinnert Memory Gaps\, die digitale Kunstinitiative von Konstanze Sailer\, beständig an diese Kinder\, an deren bestürzend kurze Leben und schrecklichen Tode. \nVon der Antike bis heute zählen Kinder zu den von Kriegen meistbetroffenen aller vulnerablen Bevölkerungsgruppen. Von Berlin bis Wien\, von Hamburg bis München\, Salzburg\, Linz sowie zahllosen weiteren Städten und Orten wurden während der NS-Diktatur etwa 1\,5 Millionen Kinder und Jugendliche in der Shoah ermordet. \n
URL:https://www.strawanzerin.at/termin/krieg-und-die-schreie-der-kinder/2026-02-20/
LOCATION:Art-Kiosk\, Friedl-Dicker-Brandeis-Promenade\, Wien\, 1020\, Österreich
CATEGORIES:Antifaschismus,Ausstellung,Kunst/Kultur,Wien
ATTACH;FMTTYPE=image/jpeg:https://www.strawanzerin.at/wp-content/uploads/2026/02/Aussschnitt-Lili-Perlstein-2019.jpg
END:VEVENT
END:VCALENDAR